BEGIN:VCALENDAR
VERSION:2.0
PRODID:-//Squash Québec - ECPv6.15.20//NONSGML v1.0//EN
CALSCALE:GREGORIAN
METHOD:PUBLISH
X-WR-CALNAME:Squash Québec
X-ORIGINAL-URL:https://squash.qc.ca/?lang=en
X-WR-CALDESC:Events for Squash Québec
REFRESH-INTERVAL;VALUE=DURATION:PT1H
X-Robots-Tag:noindex
X-PUBLISHED-TTL:PT1H
BEGIN:VTIMEZONE
TZID:UTC
BEGIN:STANDARD
TZOFFSETFROM:+0000
TZOFFSETTO:+0000
TZNAME:UTC
DTSTART:20240101T000000
END:STANDARD
END:VTIMEZONE
BEGIN:VEVENT
DTSTART;VALUE=DATE:20250814
DTEND;VALUE=DATE:20250815
DTSTAMP:20260424T044632
CREATED:20250625T143315Z
LAST-MODIFIED:20250625T145422Z
UID:3303-1755129600-1755215999@squash.qc.ca
SUMMARY:2025 Club CDL Soirée des Filles Estival / 2025 Club CDL Summer Ladies Night
DESCRIPTION:2025 CLUB CDL SOIREÉ DES FILLES ESTIVAL / 2025 CLUB CDL SUMMER LADIES NIGHT \n\nLe Club CDL organise sa toute première série de soirées estivales pour femmes !\nOuvert aux membres et aux non-membres.\nGratuit pour les membres du CDL\, 15 $ + taxes pour les non-membres\, payable à la réception du CDL à l’arrivée. Si c’est votre première visite au Club CDL\, veuillez arriver 15 minutes à l’avance pour créer votre profil.\nMatchs organisés les jeudis de 17 h 30 à 19 h 45 — vous êtes les bienvenues à jouer librement par la suite si des terrains sont disponibles. \n***Le Club CDL propose une offre spéciale d’abonnement estival au squash à 149 $ + taxes\, donnant accès à nos courts de squash\, aux soirées squash pour femmes et au gym\, du 1er juillet au 1er octobre 2025.*** \nPour organiser votre abonnement et/ou votre profil à l’avance\, ou pour plus d’informations vous pouvez contacter Chelsey\, la coordonnatrice des adhésions du Club CDL\, à l’adresse suivante : chelsey@clubcdl.com \n===== \nClub CDL is hosting our first summer ladies’ nights! \nOpen to members and non-members. \nFree for CDL members\, $15 + tax for non-members payable at CDL reception upon entry. If it is your first time at Club CDL please arrive 15 minutes early to arrange a profile. \nOrganized matches on Thursdays from 17:30 – 19:45  —  you’re welcome to free play after if courts are available. \n***Club CDL is offering a special summer squash membership at $149 + tax which gives access to our squash courts\, squash ladies nights\, and gym from July 1 – October 1\, 2025.*** \nTo arrange the membership and/or profile in advance\, or for more information you can reach Chelsey\, Club CDL’s membership coordinator\, at: chelsey@clubcdl.com \n===== \n3 juillet 2025 \n17 juillet 2025 \n24 juillet 2024 \n31 juillet 2025 \n14 août 2025 \n21 août 2025 \n28 août 2025 \n11 septembre 2025 \n18 septembre 2025
URL:https://squash.qc.ca/event-calendar/2025-club-cdl-soiree-des-filles-estival-2025-club-cdl-summer-ladies-night-5/?lang=en
ORGANIZER;CN="Club CDL%E2%80%99s membership coordinator":MAILTO:chelsey@clubcdl.com
END:VEVENT
BEGIN:VEVENT
DTSTART;VALUE=DATE:20250821
DTEND;VALUE=DATE:20250822
DTSTAMP:20260424T044632
CREATED:20250625T143420Z
LAST-MODIFIED:20250625T150831Z
UID:3306-1755734400-1755820799@squash.qc.ca
SUMMARY:2025 Club CDL Soirée des Filles Estival / 2025 Club CDL Summer Ladies Night
DESCRIPTION:2025 CLUB CDL SOIREÉ DES FILLES ESTIVAL / 2025 CLUB CDL SUMMER LADIES NIGHT \n\nLe Club CDL organise sa toute première série de soirées estivales pour femmes !\nOuvert aux membres et aux non-membres.\nGratuit pour les membres du CDL\, 15 $ + taxes pour les non-membres\, payable à la réception du CDL à l’arrivée. Si c’est votre première visite au Club CDL\, veuillez arriver 15 minutes à l’avance pour créer votre profil.\nMatchs organisés les jeudis de 17 h 30 à 19 h 45 — vous êtes les bienvenues à jouer librement par la suite si des terrains sont disponibles. \n***Le Club CDL propose une offre spéciale d’abonnement estival au squash à 149 $ + taxes\, donnant accès à nos courts de squash\, aux soirées squash pour femmes et au gym\, du 1er juillet au 1er octobre 2025.*** \nPour organiser votre abonnement et/ou votre profil à l’avance\, ou pour plus d’informations vous pouvez contacter Chelsey\, la coordonnatrice des adhésions du Club CDL\, à l’adresse suivante : chelsey@clubcdl.com \n===== \nClub CDL is hosting our first summer ladies’ nights! \nOpen to members and non-members. \nFree for CDL members\, $15 + tax for non-members payable at CDL reception upon entry. If it is your first time at Club CDL please arrive 15 minutes early to arrange a profile. \nOrganized matches on Thursdays from 17:30 – 19:45  —  you’re welcome to free play after if courts are available. \n***Club CDL is offering a special summer squash membership at $149 + tax which gives access to our squash courts\, squash ladies nights\, and gym from July 1 – October 1\, 2025.*** \nTo arrange the membership and/or profile in advance\, or for more information you can reach Chelsey\, Club CDL’s membership coordinator\, at: chelsey@clubcdl.com \n===== \n3 juillet 2025 \n17 juillet 2025 \n24 juillet 2024 \n31 juillet 2025 \n14 août 2025 \n21 août 2025 \n28 août 2025 \n11 septembre 2025 \n18 septembre 2025
URL:https://squash.qc.ca/event-calendar/2025-club-cdl-soiree-des-filles-estival-2025-club-cdl-summer-ladies-night-6/?lang=en
LOCATION:Club Sportif CDL\, 8305 Chemin de la Côte-de-Liesse\, Montréal\, QC\, H4T 1G5\, Canada
ORGANIZER;CN="Club CDL%E2%80%99s membership coordinator":MAILTO:chelsey@clubcdl.com
END:VEVENT
BEGIN:VEVENT
DTSTART;VALUE=DATE:20250828
DTEND;VALUE=DATE:20250829
DTSTAMP:20260424T044632
CREATED:20250625T143715Z
LAST-MODIFIED:20250625T145413Z
UID:3309-1756339200-1756425599@squash.qc.ca
SUMMARY:2025 Club CDL Soirée des Filles Estival / 2025 Club CDL Summer Ladies Night
DESCRIPTION:2025 CLUB CDL SOIREÉ DES FILLES ESTIVAL / 2025 CLUB CDL SUMMER LADIES NIGHT \n\nLe Club CDL organise sa toute première série de soirées estivales pour femmes !\nOuvert aux membres et aux non-membres.\nGratuit pour les membres du CDL\, 15 $ + taxes pour les non-membres\, payable à la réception du CDL à l’arrivée. Si c’est votre première visite au Club CDL\, veuillez arriver 15 minutes à l’avance pour créer votre profil.\nMatchs organisés les jeudis de 17 h 30 à 19 h 45 — vous êtes les bienvenues à jouer librement par la suite si des terrains sont disponibles. \n***Le Club CDL propose une offre spéciale d’abonnement estival au squash à 149 $ + taxes\, donnant accès à nos courts de squash\, aux soirées squash pour femmes et au gym\, du 1er juillet au 1er octobre 2025.*** \nPour organiser votre abonnement et/ou votre profil à l’avance\, ou pour plus d’informations vous pouvez contacter Chelsey\, la coordonnatrice des adhésions du Club CDL\, à l’adresse suivante : chelsey@clubcdl.com \n===== \nClub CDL is hosting our first summer ladies’ nights! \nOpen to members and non-members. \nFree for CDL members\, $15 + tax for non-members payable at CDL reception upon entry. If it is your first time at Club CDL please arrive 15 minutes early to arrange a profile. \nOrganized matches on Thursdays from 17:30 – 19:45  —  you’re welcome to free play after if courts are available. \n***Club CDL is offering a special summer squash membership at $149 + tax which gives access to our squash courts\, squash ladies nights\, and gym from July 1 – October 1\, 2025.*** \nTo arrange the membership and/or profile in advance\, or for more information you can reach Chelsey\, Club CDL’s membership coordinator\, at: chelsey@clubcdl.com \n===== \n3 juillet 2025 \n17 juillet 2025 \n24 juillet 2024 \n31 juillet 2025 \n14 août 2025 \n21 août 2025 \n28 août 2025 \n11 septembre 2025 \n18 septembre 2025
URL:https://squash.qc.ca/event-calendar/2025-club-cdl-soiree-des-filles-estival-2025-club-cdl-summer-ladies-night-7/?lang=en
LOCATION:Club Sportif CDL\, 8305 Chemin de la Côte-de-Liesse\, Montréal\, QC\, H4T 1G5\, Canada
ORGANIZER;CN="Club CDL%E2%80%99s membership coordinator":MAILTO:chelsey@clubcdl.com
END:VEVENT
END:VCALENDAR