BEGIN:VCALENDAR
VERSION:2.0
PRODID:-//Squash Québec - ECPv6.15.20//NONSGML v1.0//EN
CALSCALE:GREGORIAN
METHOD:PUBLISH
X-ORIGINAL-URL:https://squash.qc.ca/?lang=en
X-WR-CALDESC:Events for Squash Québec
REFRESH-INTERVAL;VALUE=DURATION:PT1H
X-Robots-Tag:noindex
X-PUBLISHED-TTL:PT1H
BEGIN:VTIMEZONE
TZID:UTC
BEGIN:STANDARD
TZOFFSETFROM:+0000
TZOFFSETTO:+0000
TZNAME:UTC
DTSTART:20240101T000000
END:STANDARD
END:VTIMEZONE
BEGIN:VEVENT
DTSTART;VALUE=DATE:20250516
DTEND;VALUE=DATE:20250517
DTSTAMP:20260424T084209
CREATED:20240911T144125Z
LAST-MODIFIED:20250409T171026Z
UID:2877-1747353600-1747439999@squash.qc.ca
SUMMARY:Masters Night 2025 No.3 / Soirée Des Maitres 2025 No.3
DESCRIPTION:MASTERS NIGHT / SOIREE DES MAITRES \n\nFollowing feedback from past participants\, the Masters Committee will continue the Masters Nights in 2025. \nPlease note that Non-CDL Members will pay a nominal $5 fees as requested by the Club in additional to the regular registration fee of $25 \nThanks for your support of the Masters Team. \n============================================================================ \nSuite aux commentaires des anciens participants\, le comité des maîtres poursuivra la soirée des maîtres en 2025 afin de soutenir l’équipe des maîtres du Québec. \nVeuillez noter que les non-membres du CDL paieront un frais nominal de 5$ tel que demandé par le Club en plus des frais d’inscription réguliers de 25 $. . \nMerci de votre soutien à l’équipe des maîtres.
URL:https://squash.qc.ca/event-calendar/masters-night-2025-no-3-soiree-des-maitres-2025-no-3/?lang=en
LOCATION:Club Sportif CDL\, 8305 Chemin de la Côte-de-Liesse\, Montréal\, QC\, H4T 1G5\, Canada
ORGANIZER;CN="Viano Oghenekevwe":MAILTO:vcoghene@yahoo.com
END:VEVENT
BEGIN:VEVENT
DTSTART;VALUE=DATE:20250523
DTEND;VALUE=DATE:20250526
DTSTAMP:20260424T084209
CREATED:20240918T133152Z
LAST-MODIFIED:20240918T133225Z
UID:2920-1747958400-1748217599@squash.qc.ca
SUMMARY:Tournoi de fin de saison. Squash Capitale-Nationale
DESCRIPTION:INFORMATIONS \n\nTournoi et BBQ de fin de saison \nTournoi organisé par Squash Capitale-Nationale au Club de tennis et squash Montcalm à Québec ! \nDétails: \n\nLes matchs auront lieu le vendredi soir (23 mai) et le samedi (24 mai)\nInclus un BBQ samedi soir 18h après les matchs.\n2 matchs garantis\n\nCatégories: \n\nFemmes B (cote CL 3.2 et +) (4 places)\nFemmes C-D (cote CL 3.2 et -) (8 places)\nHommes A (cote CL 4.8 et +) (8 places)\nHommes B (cote 4.3 à 4.8) (16 places)\nHommes C (cote 3.8 à 4.3) (8 places)\nHommes D (cote 3.8 et -) (8 places)\n\nLes cotes ne sont là que pour donner une idée du niveau des catégories\, il est possible que des participants soient surclassés. Il est aussi possible que 2 catégories soient fusionnées. \nDATE LIMITE D’INSCRIPTION \nDimanche 18 mai \nInscriptions directement sur CL ou par courriel à info@squashcapitalenationale.com \nCOÛT \nTBD. Payable sur place lors de l’événement.
URL:https://squash.qc.ca/event-calendar/tournoi-de-fin-de-saison-squash-capitale-nationale/?lang=en
LOCATION:Tennis Montcalm\, 1141\, boulevard Champlain\, Québec\, QC\, G1K 0A2\, Canada
ORGANIZER;CN="Squash Capitale Nationale":MAILTO:info@squashcapitalenationale.com
END:VEVENT
BEGIN:VEVENT
DTSTART;VALUE=DATE:20250530
DTEND;VALUE=DATE:20250602
DTSTAMP:20260424T084209
CREATED:20240911T143634Z
LAST-MODIFIED:20250409T171728Z
UID:2873-1748563200-1748822399@squash.qc.ca
SUMMARY:Tournoi Commémoratif Robert-Kornitzer 2025
DESCRIPTION:INFORMATIONS \n\nLe tournoi commémoratif Robert Kornitzer 2025 aura lieu du 30 mai au 1er juin mai prochain au Club CDL à Montréal (Saint-Laurent) ! Joignez-vous à nous pour une fin de semaine de squash et soutenez du même coup une bonne cause. Tous les profits de l’événement seront remis à la Fondation des maladies du coeur et de l’AVC ! \n3 matchs garantis\, repas le samedi pour les participants\, souvenir de participation et prix aux gagnants et finalistes. Il y aura aussi\, parallèlement au tournoi principal\, un ”fun draw” avec des matchs d’un seul échange!!! \nPour en savoir plus sur la fondation soutenue par l’événement: https://www.coeuretavc.ca \n============================================================================= \nThe 2025 Robert Kornitzer Memorial tournament will be held from May 30th to June 1st at Club CDL in Montreal (Saint-Laurent) ! Join us for a fun weekend of squash and support a good cause ! All proceeds from the event will be donated to the heart and stroke foundation. \n3 matches guaranteed\, meal on Saturday for all participants\, tournament souvenir and prizes for winners and finalists of all categories. Besides the main tournament\, we will also have a ”One rally fun draw” ! \nTo know more about the foundation supported by the event: https://www.heartandstroke.ca\nINFORMATIONS: \n\nDates: 9 au 11 mai 2025\nEndroit: Club CDL\n3 matchs garantis / 3 maches guaranteed !\nRepas le samedi / Meal on Saturday\nPrix pour les gagnants et finalistes de toutes les catégories / Prizes for winners and finalists of all categories\nTournoi ”fun draw” d’un seul échange par match! / ”Fun draw” tournament\, one rally per match!\nFrais d’inscription: 65$\n\n*Les participants doivent être membres de Squash Québec (30$ par année). Excepté pour les participants venant de l’extérieur du Québec. \n*Players must be members of Squash Québec (30$ per year). Except for out of province participants.
URL:https://squash.qc.ca/event-calendar/tournoi-commemoratif-robert-kornitzer-2025/?lang=en
LOCATION:Club Sportif CDL\, 8305 Chemin de la Côte-de-Liesse\, Montréal\, QC\, H4T 1G5\, Canada
ORGANIZER;CN="Viano Oghenekevwe":MAILTO:vcoghene@yahoo.com
END:VEVENT
END:VCALENDAR