BEGIN:VCALENDAR
VERSION:2.0
PRODID:-//Squash Québec - ECPv6.15.20//NONSGML v1.0//EN
CALSCALE:GREGORIAN
METHOD:PUBLISH
X-WR-CALNAME:Squash Québec
X-ORIGINAL-URL:https://squash.qc.ca/?lang=en
X-WR-CALDESC:Events for Squash Québec
REFRESH-INTERVAL;VALUE=DURATION:PT1H
X-Robots-Tag:noindex
X-PUBLISHED-TTL:PT1H
BEGIN:VTIMEZONE
TZID:UTC
BEGIN:STANDARD
TZOFFSETFROM:+0000
TZOFFSETTO:+0000
TZNAME:UTC
DTSTART:20240101T000000
END:STANDARD
END:VTIMEZONE
BEGIN:VEVENT
DTSTART;VALUE=DATE:20250309
DTEND;VALUE=DATE:20250310
DTSTAMP:20260424T113536
CREATED:20250123T135050Z
LAST-MODIFIED:20250123T135050Z
UID:3109-1741478400-1741564799@squash.qc.ca
SUMMARY:Tournoi d'un jour - Université de Sherbrooke
DESCRIPTION:INFO \n\nSquash Québec est très heureux de présenter un tournoi de squash au centre sportif de l’université de Sherbrooke. Ca fait dèjà plusieurs années qu’il y a eu un tournoi de squash en Estrie\, voici votre chance de mesurer votre niveau dans un tournoi purement amical. Le tournoi se déroulera sur un jour seulement. \nSi vous n’avez jamais participé à un tournoi\, ce tournoi est pour vous\, il se veut avant tout amical et vous donnera une chance de rencontrer d’autres joueurs de la région\, le but étant de dynamiser le squash en Estrie. \nDétails \n\nDate: 9 mars 2025\, 10h – 16h\nFrais d’inscription: $25\nOuvert à tous les niveaux de jeux\nBarre et boisson énergétique pour chaque participant\n3 matchs garanties (match 2 de 3)\n\nCatégories \n\nMixe A\, B\, C et D\nSi vous n’êtes pas sûr de la catégorie que vous devez vous inscrire\, contactez l’organissateur (stef.lussier@gmail.com)\nIl est possible que 2 catégories soient combinées\, si le nombre de participants est petit.\n\n\n\n\n\nINFO \n\nSquash Québec is very pleased to present a squash tournament at the Sherbrooke University Sports Center. It’s been several years since there was a squash tournament in Eastern Townships\, here is your chance to measure your level in a purely friendly tournament. The tournament will take place over one day only. \nIf you have never participated in a tournament\, this tournament is for you\, it is above all friendly and will give you a chance to meet other players from the region\, the goal being to boost squash in Eastern Townships. \nDetails \n\nDate: March 9\, 2025\, 10am – 4pm\nRegistration fee: $25\nOpen to all levels of play\nEnergy bar and drink for each participant\n3 matches guaranteed (match 2 of 3)\n\nCategories \n\nMixed A\, B\, C and D\nIf you are not sure which category you should register for\, contact the organizer (stef.lussier@gmail.com)\nIt is possible that 2 categories will be combined\, if the number of participants is small.
URL:https://squash.qc.ca/event-calendar/tournoi-dun-jour-universite-de-sherbrooke/?lang=en
LOCATION:Université de Sherbrooke\, 2500\, boul. Université\, Sherbrooke\, Québec\, J1N 1R9\,\, Canada
ORGANIZER;CN="St%C3%A9phane Lussier":MAILTO:stef.lussier@gmail.com
END:VEVENT
BEGIN:VEVENT
DTSTART;VALUE=DATE:20250310
DTEND;VALUE=DATE:20250311
DTSTAMP:20260424T113536
CREATED:20250203T155956Z
LAST-MODIFIED:20250203T160110Z
UID:3113-1741564800-1741651199@squash.qc.ca
SUMMARY:Webinaire : Création et gestion de programmes de squash
DESCRIPTION:INFORMATION \n\nVous souhaitez dynamiser le squash dans votre région et contribuer activement à la vie de votre club? Ce webinaire est fait pour vous! \nC’est gratuit\, il suffit de vous inscrire! \nRejoignez-nous pour une discussion enrichissante sur : \n\nComment recruter et fidéliser de nouveaux joueurs\, adultes et juniors\nLes différents types de programmes à offrir\nLes clés de la réussite pour une gestion efficace\nLe soutien disponible via Squash Québec\n\nCe webinaire gratuit sera animé par Maxym Leclair\, directeur et entraîneur-chef de Squash Outaouais. \nLe webinaire sera donné en français\, la personne resources est complètement bilingue et pourra répondre aux questions en anglais. \nDate et heure :\nLundi 10 mars  19h à 20h30\nSur Zoom  \nInscription : via Club Locker
URL:https://squash.qc.ca/event-calendar/webinaire-creation-et-gestion-de-programmes-de-squash/?lang=en
LOCATION:En ligne
ORGANIZER;CN="Squash Capitale Nationale":MAILTO:info@squashcapitalenationale.com
END:VEVENT
BEGIN:VEVENT
DTSTART;VALUE=DATE:20250314
DTEND;VALUE=DATE:20250317
DTSTAMP:20260424T113536
CREATED:20240905T183901Z
LAST-MODIFIED:20240905T184102Z
UID:2831-1741910400-1742169599@squash.qc.ca
SUMMARY:Championnat Québécois Junior Ouvert 2025
DESCRIPTION:INFORMATIONS\nSquash Outaouais et Squash Québec vous invitent aux Championnats Québécois Ouvert 2025! C’est un tournoi faisant partie du circuit canadien junior et le plus important tournoi junior au Québec. \nTournoi : Championnat Québécois Junior Ouvert 2025 \nDates : 14-16 mars 2025 \nDate limite d’inscription : Samedi 8 mars à 23h59 \nCatégories : Garçons et Filles (-11 ans\, -13 ans\, -15 ans\, -17 ans\, -19 ans) \n* Les catégories peuvent être combinés s’il y a moins de 4 joueurs dans une de celle-ci \nBalle utilisée : Dunlop 2 points jaunes \nLieu : Sporthèque\, 72 rue Jean-Proulx\, Gatineau \nInformation : Maxym Leclair – info@squashoutaouais.ca – 819-209-5910 \nFrais d’inscription : 40$ \nInclus : 3 matchs\, prix de présence\, médailles aux gagnants \nHôtel : Ramada Plaza Manoir du Casino\, Holiday Inn Gatineau-Ottawa\, Hilton Lac-Leamy \nPolitique de remboursement : Remboursement de 80% si avant la date limite d’inscription. Pas de remboursement par la suite \nINFORMATIONS\nSquash Outaouais and Squash Québec invite you to the Quebec Junior Open in commemoration of Philip-Quaid! It is the most important junior tournament in Quebec amd it’s part of the Canadian Junior circuit. \nTournament: Quebec Junior Open – Philip-Quaid Commemorative \nDates: March 14-16\, 2025 \nRegistration deadline: Saturday\, March 8th at 11:59 p.m. \nCategories: Boys and Girls (U11\, U13\, U15\, U17\, U19) \n*Categories can be combined if there is less than 4 players in one category \nBall : Dunlop Double yellow \nLocation: Sporthèque\, 72 rue Jean-Proulx\, Gatineau \nInformation: Maxym Leclair – info@squashoutaouais.ca – 819-209-5910 \nRegistration fee: $40 \nIncluded: 3 matches\, door prizes\, winners’ medals \nHotel : Ramada Plaza Manoir du Casino\, Holiday Inn Gatineau-Ottawa\, Hilton Lac-Leamy \nRefund Policy: 80% refund if before the registration deadline. No refund afterwards
URL:https://squash.qc.ca/event-calendar/championnat-quebecois-junior-ouvert-2025/?lang=en
LOCATION:Sporthèque\, 72\, rue Jean-Proulx\, Gatineau\, Québec\, J8Z 1W1\, Canada
ORGANIZER;CN="Squash Outaouais":MAILTO:info@squashoutaouais.ca
END:VEVENT
BEGIN:VEVENT
DTSTART;VALUE=DATE:20250314
DTEND;VALUE=DATE:20250317
DTSTAMP:20260424T113536
CREATED:20241122T144123Z
LAST-MODIFIED:20241122T144234Z
UID:3028-1741910400-1742169599@squash.qc.ca
SUMMARY:Championnat Canadien Universitaire et collégial 2025
DESCRIPTION:Détails à venir.
URL:https://squash.qc.ca/event-calendar/championnat-canadien-universitaire-et-collegial-2025/?lang=en
LOCATION:McGill\, 475 des Pins\, Montréal\, Québec\, H2W 1S4\, Canada
ORGANIZER;CN="McGill":MAILTO:usc.mcgill@gmail.com
END:VEVENT
BEGIN:VEVENT
DTSTART;VALUE=DATE:20250327
DTEND;VALUE=DATE:20250331
DTSTAMP:20260424T113536
CREATED:20241204T193326Z
LAST-MODIFIED:20241204T193349Z
UID:3048-1743033600-1743379199@squash.qc.ca
SUMMARY:Championnats Québecois / Quebec Open 2025
DESCRIPTION:Le championnat Québécois sénior est de retour au club Atwater! C’est avec grand plaisir que nous invitons toute la communauté squash à se retrouver pour une belle fin de semaine de squash\, du 27 au 30 mars 2025\,  au superbe Club Atwater! \nPlusieurs catégories offertes pour tous les niveaux de jeu! \n\nHommes Ouverts (PSA)\nHommes A\nHommes B\nHommes C\nHommes D\nFemmes Ouvert\nFemmes B\nFemmes C\nFemmes D\n\n* Il est possible que 2 catégories soient combinées\, si c’est le cas\, les participants concernés sereont contactés avant le début de l’événement \nDETAILS: \n\nDirecteur du tournoi / Tournament’s Director: David Phillips\nFrais d’inscription / Registration fee: 85$ + tx\nLunch Samedi\nCompensation en argent pour la catégorie Homme et Femme Ouvert\nPrix pour les gagnants des catégories amateurs\nLes matchs débuteront le jeudi soir. Possiblité de débuter le vendredi soirs pour les joueurs venant de l’extérieur de Montréal. Envoyé un courriel à dphillips@clubatwater.ca\n\n*Les participants doivent être membres de Squash Québec (20$ par année). Excepté pour les participants venant de l’éxtérieur du Québec. \n\nINFO \nThe senior Quebec open Championship is back! at Atwater Club! We are very happy to invite all the squash community to catch up for a great weekend of squash\, from the 27th to 30th of March\, at the beautiful Atwater Club. \nMany categories offered for all levels of play! * \n\nMen’s Open (PSA)\nMen’s A\nMen’s B\nMen’s C\nMen’s D\nWomen’s Open\nWomen’s B\nWomen’s C\nWomen’s D\n\n* It’s possible 2 categories will be combined\, if it’s the case\, the concerned participants will be contacted prior to the start of the event. \nDETAILS: \n\nTournament’s Director: David Phillips\nRegistration fee: $85 + tx\nLunch on Saturday\nMoney compensation in the Men’s and Women’s Open Category.\nPrizes for winners in the amateur categories.\nMatches will begin on Thursday night. Possibility to begin playing on Friday for out of town players. Send an e-mail to dphillips@clubatwater.ca\n\n*Players must be members of Squash Québec (20$ per year). Except for out of province participants.
URL:https://squash.qc.ca/event-calendar/championnats-quebecois-quebec-open-2025/?lang=en
LOCATION:Club Atwater\, 3505\, avenue Atwater\, Montréal\, QC\, H3H 1Y2\, Canada
ORGANIZER;CN="David Philips":MAILTO:dphillips@clubatwater.ca
END:VEVENT
BEGIN:VEVENT
DTSTART;VALUE=DATE:20250328
DTEND;VALUE=DATE:20250329
DTSTAMP:20260424T113536
CREATED:20240926T150525Z
LAST-MODIFIED:20240926T150525Z
UID:2952-1743120000-1743206399@squash.qc.ca
SUMMARY:Masters Night 2025 No.1 / Soiree Des Maitres 2025 No.1
DESCRIPTION:MASTERS NIGHT / SOIREE DES MAITRES \n\nFollowing feedback from past participants\, the Masters Committee will continue the Masters Nights in 2025. \nPlease note that Non-CDL Members will pay a nominal $5 fees as requested by the Club in additional to the regular registration fee of $25 \nThanks for your support of the Masters Team. \n============================================================================ \nSuite aux commentaires des anciens participants\, le comité des maîtres poursuivra la soirée des maîtres en 2025 afin de soutenir l’équipe des maîtres du Québec. \nVeuillez noter que les non-membres du CDL paieront un frais nominal de 5$ tel que demandé par le Club en plus des frais d’inscription réguliers de 25 $. . \nMerci de votre soutien à l’équipe des maîtres.
URL:https://squash.qc.ca/event-calendar/masters-night-2025-no-1-soiree-des-maitres-2025-no-1-2/?lang=en
LOCATION:Club Sportif CDL\, 8305 Chemin de la Côte-de-Liesse\, Montréal\, QC\, H4T 1G5\, Canada
ORGANIZER;CN="Viano Oghenekevwe":MAILTO:vcoghene@yahoo.com
END:VEVENT
END:VCALENDAR