BEGIN:VCALENDAR
VERSION:2.0
PRODID:-//Squash Québec - ECPv6.15.20//NONSGML v1.0//EN
CALSCALE:GREGORIAN
METHOD:PUBLISH
X-ORIGINAL-URL:https://squash.qc.ca/?lang=en
X-WR-CALDESC:Events for Squash Québec
REFRESH-INTERVAL;VALUE=DURATION:PT1H
X-Robots-Tag:noindex
X-PUBLISHED-TTL:PT1H
BEGIN:VTIMEZONE
TZID:UTC
BEGIN:STANDARD
TZOFFSETFROM:+0000
TZOFFSETTO:+0000
TZNAME:UTC
DTSTART:20230101T000000
END:STANDARD
END:VTIMEZONE
BEGIN:VEVENT
DTSTART;VALUE=DATE:20240802
DTEND;VALUE=DATE:20240803
DTSTAMP:20260424T212523
CREATED:20240227T214322Z
LAST-MODIFIED:20240227T215243Z
UID:2553-1722556800-1722643199@squash.qc.ca
SUMMARY:Soirée Des Maitres 2024 No.6
DESCRIPTION:LEVÉE DE FONDS – \nÀ la suite des commentaires des anciens participants\, le Comité des Maîtres poursuivra les soirées des Maîtres tout au long du printemps et de l’été afin de continuer à soutenir l’équipe des Maîtres du Québec. \nCes événements sont ouverts à tous ! \nVeuillez noter que les non-membres du Club devront s’acquitter d’un frais nominal de 5 $\, conformément à la demande du Club\, en plus des frais d’inscription réguliers de 20 $. \nMerci pour votre soutien continu à l’équipe des Maîtres. \nInscriptions : \n1er mars : https://clublocker.com/tournaments/16213/info \n12 avril : https://clublocker.com/tournaments/16214/info \n10 mai : https://clublocker.com/tournaments/16215 \n5 juillet : https://clublocker.com/tournaments/16216/info \n2 Août : https://clublocker.com/tournaments/16217/info \n— \nFUNDRAISING EVENT- \nFollowing feedback from past participants\, the Masters Committee will continue the Masters Nights throughout spring and summer in support of the Quebec Masters team. \nThese events are open to everyone! \nPlease note that Non-CDL Members will pay a nominal $5 fees as requested by the Club in addition to the regular registration fee of $20. \nThanks for your support of the Masters Team. \nRegistrations: \nMarch 1st: https://clublocker.com/tournaments/16213/info \nApril 12th: https://clublocker.com/tournaments/16214/info \nMay 10th: https://clublocker.com/tournaments/16215 \nJuly 5th: https://clublocker.com/tournaments/16216/info
URL:https://squash.qc.ca/event-calendar/soiree-des-maitres-2024-no-6/?lang=en
LOCATION:Club Sportif CDL\, 8305 Chemin de la Côte-de-Liesse\, Montréal\, QC\, H4T 1G5\, Canada
ORGANIZER;CN="Viano Oghenekevwe":MAILTO:vcoghene@yahoo.com
END:VEVENT
END:VCALENDAR