BEGIN:VCALENDAR
VERSION:2.0
PRODID:-//Squash Québec - ECPv6.15.20//NONSGML v1.0//EN
CALSCALE:GREGORIAN
METHOD:PUBLISH
X-ORIGINAL-URL:https://squash.qc.ca
X-WR-CALDESC:Évènements pour Squash Québec
REFRESH-INTERVAL;VALUE=DURATION:PT1H
X-Robots-Tag:noindex
X-PUBLISHED-TTL:PT1H
BEGIN:VTIMEZONE
TZID:UTC
BEGIN:STANDARD
TZOFFSETFROM:+0000
TZOFFSETTO:+0000
TZNAME:UTC
DTSTART:20250101T000000
END:STANDARD
END:VTIMEZONE
BEGIN:VEVENT
DTSTART;VALUE=DATE:20260429
DTEND;VALUE=DATE:20260430
DTSTAMP:20260423T150201
CREATED:20260326T173446Z
LAST-MODIFIED:20260326T173446Z
UID:3845-1777420800-1777507199@squash.qc.ca
SUMMARY:WMSL - Ladies Night @ McGill
DESCRIPTION:S’inscrire à l’événement / Register for the event \nÉvénement #5/6 – maximum 30 joueuses \nLes soirées “Ladies Night” sont des évènements de squash réservés aux femmes tant débutantes que expérimentées. \nCoût: 20$ / 30$ si non membre Squash Québec \nInformation additionnelles \n\n3 matchs garantis\nles parties se jouent en “best of 3” avec des manches en 11 points.\nOuvert à tous niveaux. Rating Club Locker recommandés par catégorie :\n\nA (4.00 et plus)\nB (3.30 et plus)\nC (2.50 et plus)\nD (en dessous de 2.50)\n\n\nDébut des matchs: 18h\, fin de la soirée au plus tard 21h\nSouvenir seront offerts à toutes les joueuses ayant participé à minimum 3 évènements (sur les 6 que contient cette saison).\n\nAu plaisir de vous y retrouver en grand nombre. \n\nEvent #5/6 – 30 players maximum \nThe “Ladies Night” are squash events reserved only for women\, beginners and experienced players are welcomed. \nCost: $20 / $30 for non members of Squash Québec \nAdditional Information \n\n3 matches guaranteed\nThe games are played in “best of 3” with sets in 11 points.\nOpen to all levels. Recommended Club Locker rating for each category :\n\nA (4.00 and more)\nB (3.30 and more)\nC (2.50 and more)\nD (below 2.50)\n\n\nStart of matches: 6 p.m.\, end of the evening no later than 9 p.m.\nSouvenir will be offered to all players who have participated in at least 3 events (out of the 6 that this season contains).\n\nLooking forward to seeing many of you there.
URL:https://squash.qc.ca/event-calendar/wmsl-ladies-night-mcgill-5/
LOCATION:McGill\, 475 des Pins\, Montréal\, Québec\, H2W 1S4\, Canada
ORGANIZER;CN="Simon Wojcik":MAILTO:liguedesquashdemontreal@gmail.com
END:VEVENT
END:VCALENDAR