BEGIN:VCALENDAR
VERSION:2.0
PRODID:-//Squash Québec - ECPv6.15.20//NONSGML v1.0//EN
CALSCALE:GREGORIAN
METHOD:PUBLISH
X-ORIGINAL-URL:https://squash.qc.ca
X-WR-CALDESC:Évènements pour Squash Québec
REFRESH-INTERVAL;VALUE=DURATION:PT1H
X-Robots-Tag:noindex
X-PUBLISHED-TTL:PT1H
BEGIN:VTIMEZONE
TZID:UTC
BEGIN:STANDARD
TZOFFSETFROM:+0000
TZOFFSETTO:+0000
TZNAME:UTC
DTSTART:20240101T000000
END:STANDARD
END:VTIMEZONE
BEGIN:VEVENT
DTSTART;VALUE=DATE:20251004
DTEND;VALUE=DATE:20251006
DTSTAMP:20260423T221651
CREATED:20250926T190922Z
LAST-MODIFIED:20250926T190959Z
UID:3458-1759536000-1759708799@squash.qc.ca
SUMMARY:Journées portes ouvertes Sani Sport Brossard
DESCRIPTION:Venez essayer le squash gratuitement lors de nos journées portes ouvertes au Sani Sport Brossard\, les 4 et 5 octobre prochains\, de 10 h 15 à 12 h 15.  \nL’activité est ouverte à tous\, peu importe l’âge. Des animateurs de Squash Québec seront présents pour vous initier à ce sport. Raquettes et balles fournies. \nVenez seul(e) ou accompagné(e) d’un(e) ami(e) ! \nPour réserver votre place : https://docs.google.com/forms/d/e/1FAIpQLScab8pDuUATuVGKlmTbnWujRa-lnUJ7MLH42RyJiaNz_35Cvg/viewform?usp=header
URL:https://squash.qc.ca/event-calendar/journees-portes-ouvertes-sani-sport-brossard/
LOCATION:Sani Sport Brossard\, 7777 Bd Marie-Victorin\, Brossard\, Québec\, J4W 1B3\, Canada
END:VEVENT
BEGIN:VEVENT
DTSTART;VALUE=DATE:20251016
DTEND;VALUE=DATE:20251020
DTSTAMP:20260423T221651
CREATED:20250709T190258Z
LAST-MODIFIED:20251010T150447Z
UID:3339-1760572800-1760918399@squash.qc.ca
SUMMARY:La Classique de Gatineau 2025 - présentée par Secureship
DESCRIPTION:S’inscrire à l’événement / Register for the event\n  \nINFORMATIONS \n\nSquash Outaouais et la Sporthèque vous invitent à une fin de semaine de squash lors du tournoi automnal La Classique de Gatineau. Le tournoi comprend trois matchs\, un événement le samedi (bières de microbrasserie et buffet) et vous garantit beaucoup de plaisir! De plus\, vous aurez l’occasion d’assister à du squash de haut niveau grâce aux catégories PSA Challenger Masculin et PSA Satellite Féminin \nTournoi : La Classique de Gatineau (Tournoi PSA et Amateur) \nDates : 16 au 19 octobre 2025 (Si vous ne pouvez jouer le jeudi soir\, merci de l’inscrire dans les notes lors de l’inscription) \nDate limite d’inscription : Vendredi 10 octobre à 23h59 \nCatégories  \n\nPSA Challenger Hommes (Inscription directement via la PSA)\nPSA Satellite Femmes (Gratuit pour les joueuses PSA – inscription par courriel : maxym@squashoutaouais.ca)\nMixte A (Côte CL 4\,90 et +) (Rankenstein 8400 et +) Maximum de 16 joueurs\nMixte B1 (Côte CL 4\,5 et +) (Rankenstein 8000 et +) Maximum de 16 joueurs\nMixte B2 (Côte CL 4\,1 et +) (Rankenstein 7650 et +) Maximum de 16 joueurs\nMixte C1 (Côte CL 3\,7 et +) (Rankenstein 6800 et +) Maximum de 16 joueurs\nMixde C2 (Côte 3\,3 et +) (Rankenstein 6300 et +) Maximum de 16 joueurs\nMixte D (Côte 3\,29 et -) Maximum de 8 joueurs\n* Les catégories peuvent être combinées s’il y a moins de 8 joueurs.\n\nBourses et prix: 3000$ (US) PSA Challenger Hommes – 500$ Consolation PSA Hommes – 2000$ PSA Satellite Femmes. Prix remis au gagnant des autres catégories et tirage de prix de participation \nLieu : Sporthèque\, 72 rue Jean-Proulx\, Gatineau \nInformation : Maxym Leclair – info@squashoutaouais.ca – 819-209-5910 \nFrais d’inscriptions : 65$+tx avant le 30 septembre – 75$ après le 30 septembre (50$ pour les étudiants) \nInclus : 3 matchs\, événement le samedi (bières de microbrasserie et buffet)\, regarder les matchs professionnels! \nPolitique de remboursement : Remboursement de 80% si avant la date limite d’inscription. Pas de remboursement par la suite \nHôtel : Ramada Plaza Manoir du Casino\, Hilton du Lac-Leamy ou Holiday Inn Gatineau-Ottawa (Pas de prix spécial) \n\n\n***\n\nINFORMATION (ENG) \n\nTOURNAMENT INFORMATION \nSquash Outaouais and the Sporthèque invite you to a weekend of squash during the fall tournament La Classique de Gatineau. The tournament includes three matches\, an event on Saturday night (microbrewery beers and buffet) and guarantees you a lot of fun! In addition\, you will have the opportunity to see top-level squash with the PSA Men’s Challenger event and the PSA Women’s Satelitte event. \nTournament: La Classique de Gatineau (PSA and Amateur Tournament) \nDates: October 16th to 19th\, 2025 (If you can’t play on Thursday night\, please write it in the notes when you register) \nRegistration deadline: Friday October 10th at 11:59pm \nCategories \n\nMen’s PSA Challenger (Registration directly through PSA website)\nWomen’s PSA Satelitte (Free for PSA players – registration by email : maxym@squashoutaouais.ca)\nMixte A (Côte CL 4\,90 et +) (Rankenstein 8400 et +) Maximum of 16 players\nMixte B1 (Côte CL 4\,5 et +) (Rankenstein 8000 et +) Maximum of 16 players\nMixte B2 (Côte CL 4\,1 et +) (Rankenstein 7650 et +) Maximum of 16 players\nMixte C1 (Côte CL 3\,7 et +) (Rankenstein 6800 et +) Maximum of 16 players\nMixde C2 (Côte 3\,3 et +) (Rankenstein 6300 et +) Maximum of 16 players\nMixte D (Côte 3\,29 et -) Maximum of 8 players\n​​​​​​​* * Categories can be combined if there are fewer than 8 players.\n\nPrize money : $3000 (US) PSA Men’s Challenger – $500 Men’s PSA Consolation – $2000 Women’s PSA Satelitte. Prizes for winners of other categories \, participation prize draw. \nLocation: Sporthèque\, 72 rue Jean-Proulx\, Gatineau \nInformation: Maxym Leclair – info@squashoutaouais.ca – 819-209-5910 \nRegistration fees: $65 before September 30th – $75 after September 30th ($50 for students) \nIncluded: 3 matches\, an event on Saturday (microbrew beer and buffet)\, watch professional games! \nRefund policy: 80% refund if before the registration deadline. No refund afterwards \nHotel: Ramada Plaza Manoir du Casino\, Hilton du Lac-Leamy or Holiday Inn Gatineau-Ottawa (No special price)
URL:https://squash.qc.ca/event-calendar/la-classique-de-gatineau-2025-presentee-par-secureship/
LOCATION:Sporthèque\, 72\, rue Jean-Proulx\, Gatineau\, Québec\, J8Z 1W1\, Canada
ORGANIZER;CN="Squash Outaouais":MAILTO:info@squashoutaouais.ca
END:VEVENT
BEGIN:VEVENT
DTSTART;TZID=UTC:20251031T080000
DTEND;TZID=UTC:20251102T170000
DTSTAMP:20260423T221651
CREATED:20250907T114104Z
LAST-MODIFIED:20251010T150311Z
UID:3420-1761897600-1762102800@squash.qc.ca
SUMMARY:Championnats Québécois Fermés des Maîtres 2025
DESCRIPTION:S’inscrire à l’événement / Register for the event\nINFORMATIONS \n\nLes championnats des maîtres québécois fermés auront lieu du 31 Octobre a 2 Novembre au Club Sportif Côte de Liesse CDL. Les résultats de cet événement seront utilisé pour sélectionner l’équipe qui représentera le Québec au Championnat Canadiens par équipe des Maîtres en janvier 2026 à Montreal au Club Sportif CDL. \nCoût:  35$ \nCatégories: \n\nFemmes 30+\, 35+\, 40+\, 45+\, 50+\, 55+\,\nHommes 30+\, 35+\, 40+\, 45+\, 50+\, 55+\, 60+\, 65+\n\nDétails \n\nPour participer à une catégorie\, le participant doit avoir atteint l’âge requis en date du 31 Octobre 2025. Les participants doivent résider au Québec.\nCertaines catégories pourraient être combinées advenant un faible nombre d’inscriptions\n3 Matchs garanties (en fonction de la taille des tableaux)\nL’équipe québécoise sélectionné pour les championnats canadiens sera basé sur les résultats de ce tournoi. L’équipe sera constitué de 3 femmes et 4 hommes. Femmes 40+ / 45+ /50+\, Hommes 40+ / 45+ / 50+ / 55+\nOn va sélectionner deux équipes de Quebec parce que le championnat est au Club CDL.\nLa participation au tournoi est ouvert à tous les membres de Squash Québec qui ont l’âge requis demeurant au Québec. Les joueurs qui ne sont pas intéressé à faire partie de l’équipe québécoise sont les bienvenus dans ce tournoi.\n\n\n\n\n\nINFORMATION \n\nQuebec Masters Closed Championship will be held on October 31 – November 2\, 2025 at Club Sportif Côte de Liesse CDL. The results of this tournament will be used to select the Quebec team that will participate at the Canadian Team Masters Championship in January 2025 in Montreal at Club CDL. \nCost:  $35 \nCategories: \n\nWomen 30+\,35+\, 40+\, 45+\, 50+\, 55+\nMen 30+\, 35+\, 40+\, 45+\, 50+\, 55+\, 60+\, 65+\n\nDetails \n\nTo participate in a category\, the player must have reach the minimal age by October 31\, 2025. Players must be resident of Quebec.\nSome categories might be combined if there’s not enough registrations.\nGuaranteed matches: 3 (depending on draw size)\nThe selected Quebec team for the Canadian Team Masters Championship will be based on the result of this tournament. The team will be made of 4 men and 3 women. Women 40+ / 45+ / 50+\, Men 40+ / 45+ / 50+ / 55+\nQuebec will be putting forward two Quebec Team as Host\nEvery member of Squash Quebec over 35+ is welcome to participate to the tournament. The players not looking to participate to the Canadian Championship for the Quebec team are welcome to participate too.
URL:https://squash.qc.ca/event-calendar/championnats-quebecois-fermes-des-maitres-2025/
LOCATION:Club Sportif CDL\, 8305 Chemin de la Côte-de-Liesse\, Montréal\, QC\, H4T 1G5\, Canada
ORGANIZER;CN="Viano Oghenekevwe":MAILTO:vcoghene@yahoo.com
END:VEVENT
END:VCALENDAR