BEGIN:VCALENDAR
VERSION:2.0
PRODID:-//Squash Québec - ECPv6.15.20//NONSGML v1.0//EN
CALSCALE:GREGORIAN
METHOD:PUBLISH
X-WR-CALNAME:Squash Québec
X-ORIGINAL-URL:https://squash.qc.ca
X-WR-CALDESC:Évènements pour Squash Québec
REFRESH-INTERVAL;VALUE=DURATION:PT1H
X-Robots-Tag:noindex
X-PUBLISHED-TTL:PT1H
BEGIN:VTIMEZONE
TZID:UTC
BEGIN:STANDARD
TZOFFSETFROM:+0000
TZOFFSETTO:+0000
TZNAME:UTC
DTSTART:20240101T000000
END:STANDARD
END:VTIMEZONE
BEGIN:VEVENT
DTSTART;VALUE=DATE:20250911
DTEND;VALUE=DATE:20250912
DTSTAMP:20260423T233427
CREATED:20250625T143832Z
LAST-MODIFIED:20250625T145402Z
UID:3310-1757548800-1757635199@squash.qc.ca
SUMMARY:2025 Club CDL Soirée des Filles Estival / 2025 Club CDL Summer Ladies Night
DESCRIPTION:2025 CLUB CDL SOIREÉ DES FILLES ESTIVAL / 2025 CLUB CDL SUMMER LADIES NIGHT \n\nLe Club CDL organise sa toute première série de soirées estivales pour femmes !\nOuvert aux membres et aux non-membres.\nGratuit pour les membres du CDL\, 15 $ + taxes pour les non-membres\, payable à la réception du CDL à l’arrivée. Si c’est votre première visite au Club CDL\, veuillez arriver 15 minutes à l’avance pour créer votre profil.\nMatchs organisés les jeudis de 17 h 30 à 19 h 45 — vous êtes les bienvenues à jouer librement par la suite si des terrains sont disponibles. \n***Le Club CDL propose une offre spéciale d’abonnement estival au squash à 149 $ + taxes\, donnant accès à nos courts de squash\, aux soirées squash pour femmes et au gym\, du 1er juillet au 1er octobre 2025.*** \nPour organiser votre abonnement et/ou votre profil à l’avance\, ou pour plus d’informations vous pouvez contacter Chelsey\, la coordonnatrice des adhésions du Club CDL\, à l’adresse suivante : chelsey@clubcdl.com \n===== \nClub CDL is hosting our first summer ladies’ nights! \nOpen to members and non-members. \nFree for CDL members\, $15 + tax for non-members payable at CDL reception upon entry. If it is your first time at Club CDL please arrive 15 minutes early to arrange a profile. \nOrganized matches on Thursdays from 17:30 – 19:45  —  you’re welcome to free play after if courts are available. \n***Club CDL is offering a special summer squash membership at $149 + tax which gives access to our squash courts\, squash ladies nights\, and gym from July 1 – October 1\, 2025.*** \nTo arrange the membership and/or profile in advance\, or for more information you can reach Chelsey\, Club CDL’s membership coordinator\, at: chelsey@clubcdl.com \n===== \n3 juillet 2025 \n17 juillet 2025 \n24 juillet 2024 \n31 juillet 2025 \n14 août 2025 \n21 août 2025 \n28 août 2025 \n11 septembre 2025 \n18 septembre 2025
URL:https://squash.qc.ca/event-calendar/2025-club-cdl-soiree-des-filles-estival-2025-club-cdl-summer-ladies-night-8/
LOCATION:Club Sportif CDL\, 8305 Chemin de la Côte-de-Liesse\, Montréal\, QC\, H4T 1G5\, Canada
ORGANIZER;CN="Club CDL%E2%80%99s membership coordinator":MAILTO:chelsey@clubcdl.com
END:VEVENT
BEGIN:VEVENT
DTSTART;TZID=UTC:20250918T080000
DTEND;TZID=UTC:20250918T170000
DTSTAMP:20260423T233427
CREATED:20250625T144048Z
LAST-MODIFIED:20250625T145354Z
UID:3315-1758182400-1758214800@squash.qc.ca
SUMMARY:2025 Club CDL Soirée des Filles Estival / 2025 Club CDL Summer Ladies Night
DESCRIPTION:2025 CLUB CDL SOIREÉ DES FILLES ESTIVAL / 2025 CLUB CDL SUMMER LADIES NIGHT \n\nLe Club CDL organise sa toute première série de soirées estivales pour femmes !\nOuvert aux membres et aux non-membres.\nGratuit pour les membres du CDL\, 15 $ + taxes pour les non-membres\, payable à la réception du CDL à l’arrivée. Si c’est votre première visite au Club CDL\, veuillez arriver 15 minutes à l’avance pour créer votre profil.\nMatchs organisés les jeudis de 17 h 30 à 19 h 45 — vous êtes les bienvenues à jouer librement par la suite si des terrains sont disponibles. \n***Le Club CDL propose une offre spéciale d’abonnement estival au squash à 149 $ + taxes\, donnant accès à nos courts de squash\, aux soirées squash pour femmes et au gym\, du 1er juillet au 1er octobre 2025.*** \nPour organiser votre abonnement et/ou votre profil à l’avance\, ou pour plus d’informations vous pouvez contacter Chelsey\, la coordonnatrice des adhésions du Club CDL\, à l’adresse suivante : chelsey@clubcdl.com \n===== \nClub CDL is hosting our first summer ladies’ nights! \nOpen to members and non-members. \nFree for CDL members\, $15 + tax for non-members payable at CDL reception upon entry. If it is your first time at Club CDL please arrive 15 minutes early to arrange a profile. \nOrganized matches on Thursdays from 17:30 – 19:45  —  you’re welcome to free play after if courts are available. \n***Club CDL is offering a special summer squash membership at $149 + tax which gives access to our squash courts\, squash ladies nights\, and gym from July 1 – October 1\, 2025.*** \nTo arrange the membership and/or profile in advance\, or for more information you can reach Chelsey\, Club CDL’s membership coordinator\, at: chelsey@clubcdl.com \n===== \n3 juillet 2025 \n17 juillet 2025 \n24 juillet 2024 \n31 juillet 2025 \n14 août 2025 \n21 août 2025 \n28 août 2025 \n11 septembre 2025 \n18 septembre 2025
URL:https://squash.qc.ca/event-calendar/2025-club-cdl-soiree-des-filles-estival-2025-club-cdl-summer-ladies-night-9/
LOCATION:Club Sportif CDL\, 8305 Chemin de la Côte-de-Liesse\, Montréal\, QC\, H4T 1G5\, Canada
ORGANIZER;CN="Club CDL%E2%80%99s membership coordinator":MAILTO:chelsey@clubcdl.com
END:VEVENT
BEGIN:VEVENT
DTSTART;VALUE=DATE:20250920
DTEND;VALUE=DATE:20250922
DTSTAMP:20260423T233427
CREATED:20250818T195916Z
LAST-MODIFIED:20250818T195916Z
UID:3392-1758326400-1758499199@squash.qc.ca
SUMMARY:Tournoi Amitié Squash Québec — Nouveau-Brunswick chez les Louperivois
DESCRIPTION:NOUVEAU TOURNOI À RIVIÈRE-DU-LOUP! \n\n\nBienvenue au Tournoi de l’Amitié  qui aura lieu au Centre sportif du Cégep de Rivière-du-Loup\, organisé en collaboration par Squash Québec et Squash NB.\n\n\nVenez lancer votre saison de squash tout en développant une belle rivalité amicale entre nos deux communautés provinciales et profitez-en pour découvrir la magnifique région de Rivière-du-Loup!\n\n\n Détails du tournoi :\n– Coût d’inscription : 40 $ (incluant le dîner du samedi)\n– Souper de groupe samedi soir à 20h au Resto Pub L’Estaminet\n– 2 matchs garantis (3 de 5)\n– Catégories : Mixte et Femmes (les tableaux seront créés selon le calibre des joueurs)\n– Débutants bienvenus! C’est une belle occasion pour vivre une première expérience de tournoi\n– Clinique d’arbitrage gratuite (30 min) offerte vendredi soir et/ou samedi matin selon la demande\n\n\n Horaire des matchs :\n• Samedi : 9h – 18h\n• Dimanche : 9h – 14h\n\n\nInscrivez-vous vite pour réserver votre place et ne manquez pas cet événement unique!\n https://clublocker.com/tournaments/18260/info\n\n\n—\n\n\n NEW TOURNAMENT IN RIVIÈRE-DU-LOUP! \n\n\nWelcome to the Friendship Tournament  taking place at the Cégep de Rivière-du-Loup Sports Centre\, jointly organized by Squash Québec and Squash NB.\n\n\nKick off your squash season while building a friendly rivalry between the two provincial squash communities and take the opportunity to discover the beautiful Rivière-du-Loup region!\n\n\n Tournament details:\n– Registration fee: $40 (includes Saturday lunch)\n– Group dinner on Saturday evening at 8 PM at Resto Pub L’Estaminet\n– Guaranteed 2 matches (best of 5)\n– Categories: Mixed & Women (draws will be created based on player levels)\n– Beginners welcome! This is a great chance to experience your first tournament\n– Free 30-minute refereeing clinic offered Friday evening and/or Saturday morning upon demand\n\n\n Match schedule:\n• Saturday: 9 AM – 6 PM\n• Sunday: 9 AM – 2 PM\n\n\nRegister now to secure your spot and don’t miss out on this unique event!\n https://clublocker.com/tournaments/18260/info
URL:https://squash.qc.ca/event-calendar/tournoi-amitie-squash-quebec-nouveau-brunswick-chez-les-louperivois/
ORGANIZER;CN="Marc Biron":MAILTO:biorn@videotron.ca
END:VEVENT
BEGIN:VEVENT
DTSTART;VALUE=DATE:20250926
DTEND;VALUE=DATE:20250927
DTSTAMP:20260423T233427
CREATED:20250907T114427Z
LAST-MODIFIED:20250907T114427Z
UID:3424-1758844800-1758931199@squash.qc.ca
SUMMARY:Master's Night 2025 No.4
DESCRIPTION:MASTER’S NIGHT 2025 NO.4 \n\nMasters Nights in 2025 continue. \nPlease note that Non-CDL Members will pay a nominal $5 fees as requested by the Club in additional to the regular registration fee of $25 \nThanks for your support of the Masters Team. \n============================================================================ \nLa soirée des maîtres en 2025 poursuivre. \nVeuillez noter que les non-membres du CDL paieront un frais nominal de 5$ tel que demandé par le Club en plus des frais d’inscription réguliers de 25 $. . \nMerci de votre soutien à l’équipe des maîtres.
URL:https://squash.qc.ca/event-calendar/masters-night-2025-no-4/
LOCATION:Club Sportif CDL\, 8305 Chemin de la Côte-de-Liesse\, Montréal\, QC\, H4T 1G5\, Canada
ORGANIZER;CN="Viano Oghenekevwe":MAILTO:vcoghene@yahoo.com
END:VEVENT
END:VCALENDAR