BEGIN:VCALENDAR
VERSION:2.0
PRODID:-//Squash Québec - ECPv6.15.20//NONSGML v1.0//EN
CALSCALE:GREGORIAN
METHOD:PUBLISH
X-WR-CALNAME:Squash Québec
X-ORIGINAL-URL:https://squash.qc.ca
X-WR-CALDESC:Évènements pour Squash Québec
REFRESH-INTERVAL;VALUE=DURATION:PT1H
X-Robots-Tag:noindex
X-PUBLISHED-TTL:PT1H
BEGIN:VTIMEZONE
TZID:UTC
BEGIN:STANDARD
TZOFFSETFROM:+0000
TZOFFSETTO:+0000
TZNAME:UTC
DTSTART:20240101T000000
END:STANDARD
END:VTIMEZONE
BEGIN:VEVENT
DTSTART;VALUE=DATE:20250703
DTEND;VALUE=DATE:20250704
DTSTAMP:20260424T022601
CREATED:20250621T112149Z
LAST-MODIFIED:20250621T112214Z
UID:3280-1751500800-1751587199@squash.qc.ca
SUMMARY:2025 Club CDL Soirée des filles estival / 2025 Club CDL Summer Ladies Night
DESCRIPTION:Le Club CDL organise sa toute première série de soirées estivales pour femmes !\nOuvert aux membres et aux non-membres.\nGratuit pour les membres du CDL\, 15 $ + taxes pour les non-membres\, payable à la réception du CDL à l’arrivée.\nMatchs organisés les jeudis de 17 h 30 à 19 h 45 — vous êtes les bienvenues à jouer librement par la suite si des terrains sont disponibles. \n***Le Club CDL propose une offre spéciale d’abonnement estival au squash à 149 $ + taxes\, donnant accès à nos courts de squash\, aux soirées squash pour femmes et au gym\, du 1er juillet au 1er octobre 2025.*** \nPour organiser votre abonnement à l’avance ou pour plus d’informations\, vous pouvez contacter Chelsey\, la coordonnatrice des adhésions du Club CDL\, à l’adresse suivante : chelsey@clubcdl.com \n===== \nClub CDL is hosting our first annual summer ladies’ nights! Open to members and non-members. \nFree for CDL members\, $15 + tax for non-members payable at CDL reception upon entry. \nOrganized matches on Thursdays from 17:30 – 19:45\, you’re welcome to free play after if courts are available \n***Club CDL is offering a special summer squash membership at $149 + tax which gives access to our squash courts\, squash ladies nights\, and gym from July 1 – October 1\, 2025.*** \nTo arrange the membership in advance\, or for more information you can reach Chelsey\, Club CDL’s membership coordinator\, at: chelsey@clubcdl.com \n=== \nJuly 3\, 2025 \nJuly 17\, 2025 \nJuly 24\, 2024 \nJuly 31\, 2025 \nAugust 14\, 2025 \nAugust 21\, 2025 \nAugust 28\, 2025 \nSeptember 11\, 2025 \nSeptember 18\, 2025
URL:https://squash.qc.ca/event-calendar/2025-club-cdl-soiree-des-filles-estival-2025-club-cdl-summer-ladies-night/
LOCATION:Club Sportif CDL\, 8305 Chemin de la Côte-de-Liesse\, Montréal\, QC\, H4T 1G5\, Canada
END:VEVENT
BEGIN:VEVENT
DTSTART;VALUE=DATE:20250717
DTEND;VALUE=DATE:20250718
DTSTAMP:20260424T022601
CREATED:20250625T141705Z
LAST-MODIFIED:20250625T145713Z
UID:3289-1752710400-1752796799@squash.qc.ca
SUMMARY:2025 Club CDL Soirée des Filles Estival / 2025 Club CDL Summer Ladies Night
DESCRIPTION:2025 CLUB CDL SOIREÉ DES FILLES ESTIVAL / 2025 CLUB CDL SUMMER LADIES NIGHT \n\nLe Club CDL organise sa toute première série de soirées estivales pour femmes !\nOuvert aux membres et aux non-membres.\nGratuit pour les membres du CDL\, 15 $ + taxes pour les non-membres\, payable à la réception du CDL à l’arrivée. Si c’est votre première visite au Club CDL\, veuillez arriver 15 minutes à l’avance pour créer votre profil.\nMatchs organisés les jeudis de 17 h 30 à 19 h 45 — vous êtes les bienvenues à jouer librement par la suite si des terrains sont disponibles. \n***Le Club CDL propose une offre spéciale d’abonnement estival au squash à 149 $ + taxes\, donnant accès à nos courts de squash\, aux soirées squash pour femmes et au gym\, du 1er juillet au 1er octobre 2025.*** \nPour organiser votre abonnement et/ou votre profil à l’avance\, ou pour plus d’informations vous pouvez contacter Chelsey\, la coordonnatrice des adhésions du Club CDL\, à l’adresse suivante : chelsey@clubcdl.com \n===== \nClub CDL is hosting our first summer ladies’ nights! \nOpen to members and non-members. \nFree for CDL members\, $15 + tax for non-members payable at CDL reception upon entry. If it is your first time at Club CDL please arrive 15 minutes early to arrange a profile. \nOrganized matches on Thursdays from 17:30 – 19:45  —  you’re welcome to free play after if courts are available. \n***Club CDL is offering a special summer squash membership at $149 + tax which gives access to our squash courts\, squash ladies nights\, and gym from July 1 – October 1\, 2025.*** \nTo arrange the membership and/or profile in advance\, or for more information you can reach Chelsey\, Club CDL’s membership coordinator\, at: chelsey@clubcdl.com \n===== \n3 juillet 2025 \n17 juillet 2025 \n24 juillet 2024 \n31 juillet 2025 \n14 août 2025 \n21 août 2025 \n28 août 2025 \n11 septembre 2025 \n18 septembre 2025
URL:https://squash.qc.ca/event-calendar/2025-club-cdl-soiree-des-filles-estival-2025-club-cdl-summer-ladies-night-2/
LOCATION:Club Sportif CDL\, 8305 Chemin de la Côte-de-Liesse\, Montréal\, QC\, H4T 1G5\, Canada
ORGANIZER;CN="Club CDL%E2%80%99s membership coordinator":MAILTO:chelsey@clubcdl.com
END:VEVENT
BEGIN:VEVENT
DTSTART;VALUE=DATE:20250724
DTEND;VALUE=DATE:20250725
DTSTAMP:20260424T022601
CREATED:20250625T143049Z
LAST-MODIFIED:20250625T145700Z
UID:3293-1753315200-1753401599@squash.qc.ca
SUMMARY:2025 Club CDL Soirée des Filles Estival / 2025 Club CDL Summer Ladies Night
DESCRIPTION:2025 CLUB CDL SOIREÉ DES FILLES ESTIVAL / 2025 CLUB CDL SUMMER LADIES NIGHT \n\nLe Club CDL organise sa toute première série de soirées estivales pour femmes !\nOuvert aux membres et aux non-membres.\nGratuit pour les membres du CDL\, 15 $ + taxes pour les non-membres\, payable à la réception du CDL à l’arrivée. Si c’est votre première visite au Club CDL\, veuillez arriver 15 minutes à l’avance pour créer votre profil.\nMatchs organisés les jeudis de 17 h 30 à 19 h 45 — vous êtes les bienvenues à jouer librement par la suite si des terrains sont disponibles. \n***Le Club CDL propose une offre spéciale d’abonnement estival au squash à 149 $ + taxes\, donnant accès à nos courts de squash\, aux soirées squash pour femmes et au gym\, du 1er juillet au 1er octobre 2025.*** \nPour organiser votre abonnement et/ou votre profil à l’avance\, ou pour plus d’informations vous pouvez contacter Chelsey\, la coordonnatrice des adhésions du Club CDL\, à l’adresse suivante : chelsey@clubcdl.com \n===== \nClub CDL is hosting our first summer ladies’ nights! \nOpen to members and non-members. \nFree for CDL members\, $15 + tax for non-members payable at CDL reception upon entry. If it is your first time at Club CDL please arrive 15 minutes early to arrange a profile. \nOrganized matches on Thursdays from 17:30 – 19:45  —  you’re welcome to free play after if courts are available. \n***Club CDL is offering a special summer squash membership at $149 + tax which gives access to our squash courts\, squash ladies nights\, and gym from July 1 – October 1\, 2025.*** \nTo arrange the membership and/or profile in advance\, or for more information you can reach Chelsey\, Club CDL’s membership coordinator\, at: chelsey@clubcdl.com \n===== \n3 juillet 2025 \n17 juillet 2025 \n24 juillet 2024 \n31 juillet 2025 \n14 août 2025 \n21 août 2025 \n28 août 2025 \n11 septembre 2025 \n18 septembre 2025
URL:https://squash.qc.ca/event-calendar/2025-club-cdl-soiree-des-filles-estival-2025-club-cdl-summer-ladies-night-3/
LOCATION:Club Sportif CDL\, 8305 Chemin de la Côte-de-Liesse\, Montréal\, QC\, H4T 1G5\, Canada
ORGANIZER;CN="Club CDL%E2%80%99s membership coordinator":MAILTO:chelsey@clubcdl.com
END:VEVENT
BEGIN:VEVENT
DTSTART;VALUE=DATE:20250731
DTEND;VALUE=DATE:20250801
DTSTAMP:20260424T022601
CREATED:20250625T143209Z
LAST-MODIFIED:20250625T145648Z
UID:3296-1753920000-1754006399@squash.qc.ca
SUMMARY:2025 Club CDL Soirée des Filles Estival / 2025 Club CDL Summer Ladies Night
DESCRIPTION:2025 CLUB CDL SOIREÉ DES FILLES ESTIVAL / 2025 CLUB CDL SUMMER LADIES NIGHT \n\nLe Club CDL organise sa toute première série de soirées estivales pour femmes !\nOuvert aux membres et aux non-membres.\nGratuit pour les membres du CDL\, 15 $ + taxes pour les non-membres\, payable à la réception du CDL à l’arrivée. Si c’est votre première visite au Club CDL\, veuillez arriver 15 minutes à l’avance pour créer votre profil.\nMatchs organisés les jeudis de 17 h 30 à 19 h 45 — vous êtes les bienvenues à jouer librement par la suite si des terrains sont disponibles. \n***Le Club CDL propose une offre spéciale d’abonnement estival au squash à 149 $ + taxes\, donnant accès à nos courts de squash\, aux soirées squash pour femmes et au gym\, du 1er juillet au 1er octobre 2025.*** \nPour organiser votre abonnement et/ou votre profil à l’avance\, ou pour plus d’informations vous pouvez contacter Chelsey\, la coordonnatrice des adhésions du Club CDL\, à l’adresse suivante : chelsey@clubcdl.com \n===== \nClub CDL is hosting our first summer ladies’ nights! \nOpen to members and non-members. \nFree for CDL members\, $15 + tax for non-members payable at CDL reception upon entry. If it is your first time at Club CDL please arrive 15 minutes early to arrange a profile. \nOrganized matches on Thursdays from 17:30 – 19:45  —  you’re welcome to free play after if courts are available. \n***Club CDL is offering a special summer squash membership at $149 + tax which gives access to our squash courts\, squash ladies nights\, and gym from July 1 – October 1\, 2025.*** \nTo arrange the membership and/or profile in advance\, or for more information you can reach Chelsey\, Club CDL’s membership coordinator\, at: chelsey@clubcdl.com \n===== \n3 juillet 2025 \n17 juillet 2025 \n24 juillet 2024 \n31 juillet 2025 \n14 août 2025 \n21 août 2025 \n28 août 2025 \n11 septembre 2025 \n18 septembre 2025
URL:https://squash.qc.ca/event-calendar/2025-club-cdl-soiree-des-filles-estival-2025-club-cdl-summer-ladies-night-4/
LOCATION:Club Sportif CDL\, 8305 Chemin de la Côte-de-Liesse\, Montréal\, QC\, H4T 1G5\, Canada
ORGANIZER;CN="Club CDL%E2%80%99s membership coordinator":MAILTO:chelsey@clubcdl.com
END:VEVENT
END:VCALENDAR