BEGIN:VCALENDAR
VERSION:2.0
PRODID:-//Squash Québec - ECPv6.15.20//NONSGML v1.0//EN
CALSCALE:GREGORIAN
METHOD:PUBLISH
X-WR-CALNAME:Squash Québec
X-ORIGINAL-URL:https://squash.qc.ca
X-WR-CALDESC:Évènements pour Squash Québec
REFRESH-INTERVAL;VALUE=DURATION:PT1H
X-Robots-Tag:noindex
X-PUBLISHED-TTL:PT1H
BEGIN:VTIMEZONE
TZID:UTC
BEGIN:STANDARD
TZOFFSETFROM:+0000
TZOFFSETTO:+0000
TZNAME:UTC
DTSTART:20230101T000000
END:STANDARD
END:VTIMEZONE
BEGIN:VEVENT
DTSTART;VALUE=DATE:20241206
DTEND;VALUE=DATE:20241208
DTSTAMP:20260424T114256
CREATED:20240918T132849Z
LAST-MODIFIED:20240918T132849Z
UID:2915-1733443200-1733615999@squash.qc.ca
SUMMARY:Tournoi de mi-saison de Squash Capitale-Nationale
DESCRIPTION:Au club de tennis et squash Montcalm. \nCatégories:\nMixte A\, B\, C et D \nCoût: TBD\nDate limite d’inscription: Lundi le 1 décembre. \nINSCRIPTION par courriel à info@squashcapitalenationale.com ou sur Club Locker \nPlus de détails à venir
URL:https://squash.qc.ca/event-calendar/tournoi-de-mi-saison-de-squash-capitale-nationale/
LOCATION:Tennis Montcalm\, 1141\, boulevard Champlain\, Québec\, QC\, G1K 0A2\, Canada
ORGANIZER;CN="Squash Capitale Nationale":MAILTO:info@squashcapitalenationale.com
END:VEVENT
BEGIN:VEVENT
DTSTART;VALUE=DATE:20241218
DTEND;VALUE=DATE:20241219
DTSTAMP:20260424T114256
CREATED:20241001T103731Z
LAST-MODIFIED:20241001T103757Z
UID:2968-1734480000-1734566399@squash.qc.ca
SUMMARY:WMSL - Ladies Night @ McGill
DESCRIPTION:INFORMATION \n\nÉvénement #3 / 6 \nLes soirées “Ladies Night” sont des évènements de squash réservés aux femmes tant débutantes que expérimentées. \nCoût: 20$ \nInformation additionnelles \n\n3 matchs garantis\nles parties se jouent en “best of 3” avec des manches en 11 points.\nOuvert à tous niveaux (catégories A/B/C/D)\nDébut des matchs: 18h\, fin de la soirée au plus tard 21h\nt-shirts souvenir seront offerts à toutes les joueuses ayant participé à minimum 3 évènements (sur les 6 que contient cette saison).\n\nAu plaisir de vous y retrouver en grand nombre. \n\nEvent #3 / 6 \nThe “Ladies Night” are squash events reserved only for women\, beginners and experienced players are welcomed. \nCost: $20 \nAdditional Information \n\n3 matches guaranteed\nThe games are played in “best of 3” with sets in 11 points.\nOpen to all levels (categories A/B/C/D)\nStart of matches: 6 p.m.\, end of the evening no later than 9 p.m.\nSouvenir t-shirts will be offered to all players who have participated in at least 3 events (out of the 6 that this season contains).\n\nLooking forward to seeing many of you there.
URL:https://squash.qc.ca/event-calendar/wmsl-ladies-night-mcgill-2/
LOCATION:McGill\, 475 des Pins\, Montréal\, Québec\, H2W 1S4\, Canada
ORGANIZER;CN="Simon Wojcik":MAILTO:liguedesquashdemontreal@gmail.com
END:VEVENT
END:VCALENDAR