BEGIN:VCALENDAR
VERSION:2.0
PRODID:-//Squash Québec - ECPv6.15.20//NONSGML v1.0//EN
CALSCALE:GREGORIAN
METHOD:PUBLISH
X-ORIGINAL-URL:https://squash.qc.ca
X-WR-CALDESC:Évènements pour Squash Québec
REFRESH-INTERVAL;VALUE=DURATION:PT1H
X-Robots-Tag:noindex
X-PUBLISHED-TTL:PT1H
BEGIN:VTIMEZONE
TZID:UTC
BEGIN:STANDARD
TZOFFSETFROM:+0000
TZOFFSETTO:+0000
TZNAME:UTC
DTSTART:20230101T000000
END:STANDARD
END:VTIMEZONE
BEGIN:VEVENT
DTSTART;VALUE=DATE:20241017
DTEND;VALUE=DATE:20241021
DTSTAMP:20260424T143830
CREATED:20240716T151804Z
LAST-MODIFIED:20240716T152552Z
UID:2777-1729123200-1729468799@squash.qc.ca
SUMMARY:La Classique de Gatineau 2024
DESCRIPTION:RENSEIGNEMENTS \n\nSquash Outaouais et la Sporthèque vous invitent à une fin de semaine de squash lors du tournoi automnal La Classique de Gatineau. Le tournoi comprend trois matchs\, un événement le samedi (bières de microbrasserie et buffet) et vous garantit beaucoup de plaisir! De plus\, vous aurez l’occasion d’assister à du squash de haut niveau grâce aux catégories PSA Challenger Masculin et PSA Satellite Féminin \nTournoi : La Classique de Gatineau (Tournoi PSA et Amateur) \nDates : 17 au 20 octobre 2024 (Les joueurs de l’extérieur de Gatineau-Ottawa\, peuvent demander à débuter le vendredi) \nDate limite d’inscription : Vendredi 11 octobre à 23h59 \nCatégories  \n\nPSA Challenger Hommes (Inscription directement via la PSA)\nPSA Satellite Femmes – Femmes AB\nMixte A (Côte CL 4\,80 et +) (Rankenstein 8400 et +) Maximum de 16 joueurs\nMixte B (Côte CL 4\,2 et +) (Rankenstein 7800 et +) Maximum de 32 joueurs\nMixte C (Côte CL 3\,4 et +) (Rankenstein 6800 et +) Maximum de 32 joueurs\nMixte D Maximum de 16 joueurs\n\nBourses et prix: 3000$ (US) PSA Challenger Hommes – 500$ Consolation PSA Hommes – 1000$ PSA Satellite Femmes. Prix remis au gagnant des autres catégories et tirage de prix de participation \nLieu : Sporthèque\, 72 rue Jean-Proulx\, Gatineau \nInformation : Maxym Leclair – info@squashoutaouais.ca – 819-209-5910 \nFrais d’inscriptions : 60$ avant le 30 septembre – 70$ après le 30 septembre (45$ pour les étudiants – inscription par courriel au info@squashoutaouais.ca) \nInclus : 3 matchs\, événement le samedi (bières de microbrasserie et buffet)\, regarder les matchs professionnels! \nPolitique de remboursement : Remboursement de 80% si avant la date limite d’inscription. Pas de remboursement par la suite \nHôtel : Ramada Plaza Manoir du Casino\, Hilton du Lac-Leamy ou Holiday Inn Gatineau-Ottawa (Pas de prix spécial) \n\n*** \nINFORMATION \n\nINFORMATIONS SUR LE TOURNOI \nSquash Outaouais and the Sporthèque invite you to a weekend of squash during the fall tournament La Classique de Gatineau. The tournament includes three matches\, an event on Saturday night (microbrewery beers and buffet) and guarantees you a lot of fun! In addition\, you will have the opportunity to see top-level squash with the PSA Men’s Challenger event and the PSA Women’s Satelitte event. \nTournament: La Classique de Gatineau (PSA and Amateur Tournament) \nDates: October 17th to 20th\, 2024 (Out-of-town players can ask to start on Friday) \nRegistration deadline: Friday October 11th at 11:59pm \nCategories \n\nMen’s PSA Challenger (Registration directly with PSA)\nWomen’s PSA Satellite – Women’s AB\nMixed A (CL Rating 4\,80+) (Rankenstein 8400 et +) Maximum of 16 players\nMixed B (CL Rating 4\,2+) (Rankenstein 7800 et +) Maximum of 32 players\nMixed C (CL Rating 3\,4+) (Rankenstein 6800 et +) Maximum of 32 players\nMixed D Maximum of 16 players\n\nPrize money : $3000 (US) PSA Men’s Challenger – $500 PSA Consolation – $1000 Women’s PSA Satelitte. Prizes for winners of other categories \, participation prize draw. \nLocation: Sporthèque\, 72 rue Jean-Proulx\, Gatineau \nInformation: Maxym Leclair – info@squashoutaouais.ca – 819-209-5910 \nRegistration fees: $60 before September 30th – $70 after September 30th ($45 for students\, registration by email at info@squashoutaouais.ca) \nIncluded: 3 matches\, an event on Saturday (microbrew beer and buffet)\, watch professional games! \nRefund policy: 80% refund if before the registration deadline. No refund afterwards \nHotel: Ramada Plaza Manoir du Casino\, Hilton du Lac-Leamy or Holiday Inn Gatineau-Ottawa (No special price) \n 
URL:https://squash.qc.ca/event-calendar/la-classique-de-gatineau-2024/
LOCATION:Sporthèque\, 72\, rue Jean-Proulx\, Gatineau\, Québec\, J8Z 1W1\, Canada
ORGANIZER;CN="Squash Outaouais":MAILTO:info@squashoutaouais.ca
END:VEVENT
BEGIN:VEVENT
DTSTART;VALUE=DATE:20241023
DTEND;VALUE=DATE:20241024
DTSTAMP:20260424T143830
CREATED:20241001T103507Z
LAST-MODIFIED:20241001T103507Z
UID:2960-1729641600-1729727999@squash.qc.ca
SUMMARY:WMSL - Ladies Night @ Midtown
DESCRIPTION:INFORMATION \n\nÉvénement #1 / 6 \nLes soirées “Ladies Night” sont des évènements de squash réservés aux femmes tant débutantes que expérimentées. \nCoût: 20$ \nInformation additionnelles \n\n3 matchs garantis\nles parties se jouent en “best of 3” avec des manches en 11 points.\nOuvert à tous niveaux (catégories A/B/C/D)\nDébut des matchs: 18h\, fin de la soirée au plus tard 21h\nt-shirts souvenir seront offerts à toutes les joueuses ayant participé à minimum 3 évènements (sur les 6 que contient cette saison).\n\nAu plaisir de vous y retrouver en grand nombre. \n\nEvent #1 / 6 \nThe “Ladies Night” are squash events reserved only for women\, beginners and experienced players are welcomed. \nCost: $20 \nAdditional Information \n\n3 matches guaranteed\nThe games are played in “best of 3” with sets in 11 points.\nOpen to all levels (categories A/B/C/D)\nStart of matches: 6 p.m.\, end of the evening no later than 9 p.m.\nSouvenir t-shirts will be offered to all players who have participated in at least 3 events (out of the 6 that this season contains).\n\nLooking forward to seeing many of you there.
URL:https://squash.qc.ca/event-calendar/wmsl-ladies-night-midtown-2/
LOCATION:Midtown Le Sporting Club Sanctuaire\, 6105\, avenue du Boisé\, Montréal\, QC\, H3S 2V9\, Canada
ORGANIZER;CN="Simon Wojcik":MAILTO:liguedesquashdemontreal@gmail.com
END:VEVENT
BEGIN:VEVENT
DTSTART;VALUE=DATE:20241025
DTEND;VALUE=DATE:20241026
DTSTAMP:20260424T143830
CREATED:20240906T140305Z
LAST-MODIFIED:20240906T140318Z
UID:2849-1729814400-1729900799@squash.qc.ca
SUMMARY:Webinaire sur l'arbitrage au squash (niveau intermédiaire)
DESCRIPTION:ARBITRAGE / REFEREEING \n\nLe webinaire intermédiaire sur l’arbitrage au squash examinera les différents types d’interférence au squash et la manière de prendre les décisions pour les matchs de ligue ou les tournois. \n============================================================================= \nIntermediate Squash Refereeing Webinar will look at the different types of interference in Squash and how to make the decisions for League play or tournaments.
URL:https://squash.qc.ca/event-calendar/webinaire-sur-larbitrage-au-squash-niveau-intermediaire/
LOCATION:En ligne
ORGANIZER;CN="Viano Oghenekevwe":MAILTO:vcoghene@yahoo.com
END:VEVENT
BEGIN:VEVENT
DTSTART;VALUE=DATE:20241030
DTEND;VALUE=DATE:20241031
DTSTAMP:20260424T143830
CREATED:20240926T150042Z
LAST-MODIFIED:20240926T150057Z
UID:2944-1730246400-1730332799@squash.qc.ca
SUMMARY:Masters Night 2024 No.7 - Soirée Des Maitres 2024 No.7
DESCRIPTION:MASTERS NIGHT / SOIREE DES MAITRES \n\nFollowing feedback from past participants\, the Masters Committee will continue the Masters Night all through the Summer and the Fall in support of the Quebec Masters Team. \nPlease note that Non-CDL Members will pay a nominal $5 fees as requested by the Club in additional to the regular registration fee of $25 \nThanks for your support of the Masters Team. \n============================================================================ \nSuite aux commentaires des anciens participants\, le comité des maîtres poursuivra la soirée des maîtres tout au long de l’été et de l’automne afin de soutenir l’équipe des maîtres du Québec. \nVeuillez noter que les non-membres du CDL paieront un frais nominal de 5$ tel que demandé par le Club en plus des frais d’inscription réguliers de 25 $. . \nMerci de votre soutien à l’équipe des maîtres.
URL:https://squash.qc.ca/event-calendar/masters-night-2024-no-7-soiree-des-maitres-2024-no-7/
LOCATION:Club Sportif CDL\, 8305 Chemin de la Côte-de-Liesse\, Montréal\, QC\, H4T 1G5\, Canada
ORGANIZER;CN="Viano Oghenekevwe":MAILTO:vcoghene@yahoo.com
END:VEVENT
END:VCALENDAR