BEGIN:VCALENDAR
VERSION:2.0
PRODID:-//Squash Québec - ECPv6.15.20//NONSGML v1.0//EN
CALSCALE:GREGORIAN
METHOD:PUBLISH
X-WR-CALNAME:Squash Québec
X-ORIGINAL-URL:https://squash.qc.ca/?lang=en
X-WR-CALDESC:Events for Squash Québec
REFRESH-INTERVAL;VALUE=DURATION:PT1H
X-Robots-Tag:noindex
X-PUBLISHED-TTL:PT1H
BEGIN:VTIMEZONE
TZID:UTC
BEGIN:STANDARD
TZOFFSETFROM:+0000
TZOFFSETTO:+0000
TZNAME:UTC
DTSTART:20250101T000000
END:STANDARD
END:VTIMEZONE
BEGIN:VEVENT
DTSTART;VALUE=DATE:20260302
DTEND;VALUE=DATE:20260307
DTSTAMP:20260423T211256
CREATED:20260220T193944Z
LAST-MODIFIED:20260220T195031Z
UID:3801-1772409600-1772841599@squash.qc.ca
SUMMARY:Camp de relâche de squash du 2 au 6 mars 2026 au club sportif CDL
DESCRIPTION:CAMP DE RELÂCHE DE SQUASH DU 2 AU 6 MARS 2026 AU CLUB SPORTIF CÔTE-DE-LIESSE  \nOffrez à vos enfants une semaine de relâche remplie de plaisir sur les terrains de squash du Club sportif Côte-de-Liesse. \nLe camp se déroulera du lundi 2 mars au vendredi 6 mars\, de 9 h à 13 h. Il s’adresse aux jeunes de 6 à 14 ans. \nÀ quoi s’attendre:\n• 3 heures de squash\n• 1 heure de fitness\n• 4 participants par instructeur \nVeuillez prévoir :\n• des chaussures de sport (à semelles non marquantes\, idéalement) ;\n• Une collation \nNous fournissons tout le reste de l’équipement (raquettes\, lunettes de protection\, balles\, etc.). \nFaites vite\, les places sont limitées !\nPour vous inscrire veuillez remplir le formulaire et l’envoyer à Chelsey Marlowe à l’adresse courriel suivante :  chelsey@clubcdl.com
URL:https://squash.qc.ca/event-calendar/camp-de-relache-de-squash-du-2-au-6-mars-2026-au-club-sportif-cdl/?lang=en
LOCATION:Club Sportif CDL\, 8305 Chemin de la Côte-de-Liesse\, Montréal\, QC\, H4T 1G5\, Canada
END:VEVENT
BEGIN:VEVENT
DTSTART;VALUE=DATE:20260302
DTEND;VALUE=DATE:20260303
DTSTAMP:20260423T211256
CREATED:20260122T154218Z
LAST-MODIFIED:20260122T154500Z
UID:3730-1772409600-1772495999@squash.qc.ca
SUMMARY:Webinaire sur l'arbitrage au squash/Squash Refereeing Webinar
DESCRIPTION:S’inscrire à l’événement / Register for the event \nARBITRAGE/REFEREEING \n\nLe webinaire sur l’arbitrage au squash examinera les différents types d’interférence au squash et la manière de prendre les décisions pour les matchs de ligue ou les tournois. \n============================================================================= \nThis Squash Refereeing Webinar will look at the different types of interference in Squash and how to make the decisions for League play or tournaments.
URL:https://squash.qc.ca/event-calendar/webinaire-sur-larbitrage-au-squash-squash-refereeing-webinar-2/?lang=en
LOCATION:En ligne
ORGANIZER;CN="Viano Oghenekevwe":MAILTO:vcoghene@yahoo.com
END:VEVENT
BEGIN:VEVENT
DTSTART;VALUE=DATE:20260308
DTEND;VALUE=DATE:20260309
DTSTAMP:20260423T211256
CREATED:20260220T160527Z
LAST-MODIFIED:20260220T160527Z
UID:3798-1772928000-1773014399@squash.qc.ca
SUMMARY:Initiation au squash Sani Sport Brossard
DESCRIPTION:Deux séances d’initiation au squash\, destinées aux jeunes de 7 à 16 ans\, se tiendront au Sani Sport Brossard les dimanches 1er mars et 8 mars 2026. \nIl sera possible de s’inscrire à l’une des deux plages horaires suivantes : de 10 h à 11 h ou de 11 h à 12 h\, le 1er mars ou le 8 mars. \nC’est gratuit et tout l’équipement est fourni ! \nSi votre enfant souhaite poursuivre l’activité\, il sera possible de l’inscrire au programme de squash junior offert du 15 mars au 3 mai 2026. \n*Veuillez prendre note que cette initiation s’adresse uniquement aux nouveaux adeptes qui ne sont pas déjà inscrits à l’un de nos programmes. \nPour réserver une place : \nhttps://forms.gle/8AmDpSi73RYcsu5J6
URL:https://squash.qc.ca/event-calendar/initiation-au-squash-sani-sport-brossard-2/?lang=en
LOCATION:Sani Sport Brossard\, 7777 Bd Marie-Victorin\, Brossard\, Québec\, J4W 1B3\, Canada
END:VEVENT
BEGIN:VEVENT
DTSTART;VALUE=DATE:20260321
DTEND;VALUE=DATE:20260322
DTSTAMP:20260423T211256
CREATED:20251125T173233Z
LAST-MODIFIED:20260219T144732Z
UID:3653-1774051200-1774137599@squash.qc.ca
SUMMARY:Squash Québec Circuit PRO-AM Tour - Université de Sherbrooke
DESCRIPTION:S’inscrire à l’événement / Register for the event \nSQUASH QUÉBEC CIRCUIT PRO-AM TOUR – UNIVERSITÉ DE SHERBROOKE – FR \n\nC’est avec grand plaisir que je vous invite à participer à notre évènement Squash Québec Circuit PRO-AM Tour présenté par Squash Québec et notre partenaire Squash Experts ! \nCet évènement d’une journée s’adresse aux joueurs et joueuses de TOUS les niveaux. Vous aurez la chance de côtoyer deux professionnels\, un officiel certifié et de participer à un mini-tournoi avec deux matchs garantis. \nLimite de 24 participants (inscrivez-vous dès que possible pour assurer votre place)  \nAu programme :​​​​​​​ \n\n9h00 à 9h45 : Mini clinique individualisée avec un PRO. Jouez avec lui pendant un minimum de 5 minutes et recevez ses conseils pour vous améliorer.\n9h45 à 10h15 : Formation sur l’arbitrage par un officiel certifié. Interprétez mieux les règles de squash en situation de jeu.\n10h15 à 11h00 : Spectaculaire match de compétition des PROS\n11h00 à 15h00 : Mini-tournoi amateur pour tous les niveaux. 2 matchs garantis. Mettez en pratique tout ce que vous avez appris !\n\nNous demandons à tous les joueurs et joueuses qui veulent avoir la mini clinique avec les PRO d’arriver pour 9h00. \nEssayez les raquettes démos de Squash Experts pour trouver le modèle que vous préférez pour votre prochaine raquette ! \nDétails mini-tournoi: \n\nToutes les catégories seront composées de 4 joueurs de niveaux similaires.\nLes gagnants du premier match s’affronteront pour déterminer les positions 1 et 2.\nLes perdants du premier match s’affronteront pour déterminer les positions 3 et 4.\nPrix : 1er = $30\, 2e = $20\, 3e =$10 (Certificats cadeaux Squash Experts).\nDonc\, vous gagnez un match vous gagnez un prix !\n\nDétails évènement : \nDATE : 21 mars 2026 de 9h00 à 15h00 \nLIEU: Université de Sherbrooke\, 2500\, boul. Université\, Sherbrooke\, Quebec\, J1N 1R9\, Canada \nDATE LIMITE INSCRIPTION : 9 mars 2026 \nCOÛT: $50 qui inclus : \nPROMOTION Early Bird avant le 14 février 2026 : $40 \n\nMini-Clinique\nFormation arbitrage\nMatch professionnel\nMini-Tournoi et prix\nCollations\n\nINFORMATION : Patrick Hébert – patrick.hebert@squash.qc.ca \n\n\n\n\nSQUASH QUÉBEC CIRCUIT PRO-AM TOUR – SHERBROOKE UNIVERSITY – EN \n\nIt is with great pleasure that I invite you to participate in our Squash Québec Circuit PRO-AM Tour event presented by Squash Québec and our partner Squash Experts! \nThis one-day event is for players of ALL levels. You will have the chance to work with two professionals\, a certified official and participate in a mini-tournament with two matches guaranteed. \nLimit of 24 participants (register as soon as possible to secure your spot) . \nOn the program:​​​​​​​ \n\n9:00 to 9:45: Individualized mini clinic with a PRO. Play with him for a minimum of 5 minutes and receive his advice to improve yourself.\n9:45 to 10:15 : Training on officiating by a certified official. Better interpret the squash rules in gaming situations.\n10:15 to 11:00: Spectacular competitive match of the PROS\n11:00 to 15:00: Amateur mini-tournament for all levels. 2 matches guaranteed. Put into practice everything you have learned!\n\nWe ask all the players who want to have the mini clinic with the PRO to arrive by 9:00. \nTry Squash Experts demo raquets and find which model you prefer for your next racket ! \nMini-tournament details: \n\nAll categories will be composed of 4 players of similar levels.\nThe winners of the first match will compete to determine positions 1 and 2.\nThe losers of the first match will compete to determine positions 3 and 4.\nPrice: 1st = $30\, 2nd = $20\, 3rd =$10 (Squash Experts gift certificates).\nSo\, you win a match you win a prize!\n\nEvent details: \nDATE: March 21st\, 2026 from 9:00 to 15:00 \nLOCATION: Sherbrooke University\, 2500\, boul. Université\, Sherbrooke\, Quebec\, J1N 1R9\, Canada \nREGISTRATION DEADLINE: March 9th\, 2026 \nCOST: $50 which includes: \nEarly Bird PROMOTION before February 14th 2026 : $40 \n\nMini-Clinic\nRefereeing training\nProfessional match\nMini-Tournament and prizes\nSnacks\n\nINFORMATION: Patrick Hébert – patrick.hebert@squash.qc.ca
URL:https://squash.qc.ca/event-calendar/squash-quebec-circuit-pro-am-tour-universite-de-sherbrooke/?lang=en
LOCATION:Université de Sherbrooke\, 2500\, boul. Université\, Sherbrooke\, Québec\, J1N 1R9\,\, Canada
ORGANIZER;CN="Patrick H%C3%A9bert":MAILTO:phebert_mba@yahoo.ca
END:VEVENT
BEGIN:VEVENT
DTSTART;VALUE=DATE:20260324
DTEND;VALUE=DATE:20260325
DTSTAMP:20260423T211256
CREATED:20260304T013450Z
LAST-MODIFIED:20260304T161255Z
UID:3827-1774310400-1774396799@squash.qc.ca
SUMMARY:Clinique d'arbitrage en personne et en Ligne / In person and Virtual Refereeing Clinic
DESCRIPTION:This Refereeing Clinic will take place in person as well as virtual for those who cannot make it to Club Atwater during the PSA Challenger Event. We will continue our look at another aspect of the rules update that deals with illness\, injuries and bleeding. We will also review a few video clips. The clinic will last for only an hour. \n============================================== \nCe Webinaire sur l’arbitrage se déroulera en personne et en ligne pour ceux qui ne peuvent pas se rendre au Club Atwater pendant le Tournoi PSA. Nous continuerons d’examiner un autre aspect de la mise à jour des règles qui traite des maladies\, des blessures et des saignements. Nous visionnerons également quelques extraits vidéo. Le séminaire ne durera qu’une heure.
URL:https://squash.qc.ca/event-calendar/clinique-darbitrage-en-personne-et-en-ligne-a-midi-in-person-and-virtual-refereeing-clinic-at-noon/?lang=en
LOCATION:Club Atwater\, 3505\, avenue Atwater\, Montréal\, QC\, H3H 1Y2\, Canada
ORGANIZER;CN="Viano Oghenekevwe":MAILTO:vcoghene@yahoo.com
END:VEVENT
BEGIN:VEVENT
DTSTART;VALUE=DATE:20260326
DTEND;VALUE=DATE:20260330
DTSTAMP:20260423T211256
CREATED:20251008T181929Z
LAST-MODIFIED:20251010T145107Z
UID:3497-1774483200-1774828799@squash.qc.ca
SUMMARY:Championnats Québecois / Quebec Open 2026
DESCRIPTION:S’inscrire à l’événement / Register for the event\nINFORMATIONS \n\nLe club Atwater célèbre ses 100 ans\, et quoi mieux que de célébrer ensemble cet anniversaire avec le championnat Québécois sénior! C’est avec grand plaisir que nous invitons toute la communauté squash à se retrouver pour une belle fin de semaine de squash\, du 26 au 29 mars 2026\,  au superbe Club Atwater! L’édition cette année nous promet quelques surprises! \nPlusieurs catégories offertes pour tous les niveaux de jeu! \n\nHommes Ouverts (PSA)\nHommes A\nHommes B\nHommes C\nHommes D\nFemmes Ouvert\nFemmes B\nFemmes C\nFemmes D\n\n* Il est possible que 2 catégories soient combinées\, si c’est le cas\, les participants concernés sereont contactés avant le début de l’événement \nDETAILS: \n\nDirecteur du tournoi / Tournament’s Director: David Phillips\nFrais d’inscription / Registration fee: TBD + tx\nPlus de détails à venir\n\n*Les participants doivent être membres de Squash Québec (30$ par année). Excepté pour les participants venant de l’éxtérieur du Québec. \n\n\n\n\nINFORMATIONS (ENGLISH) \n\nThe Atwater Club is celebrating its 100th anniversary\, and what better way to celebrate than with the Quebec Senior Championship! We’re delighted to invite the entire squash community to come together for a wonderful squash weekend\, from March 26 to 29\, 2026\, at the superb Atwater Club! This year’s edition promises some surprises! \nSeveral categories are available for all levels of play! \n\nMen’s Open (PSA)\nMen’s A\nMen’s B\nMen’s C\nMen’s D\nWomen’s Open\nWomen’s B\nWomen’s C\nWomen’s D\n\n* Two categories may be combined; if so\, the participants concerned will be contacted before the start of the event. \nDETAILS: \n\nTournament Director: David Phillips\nRegistration fee: TBD + tax\nMore details to come\n\n*Participants must be members of Squash Québec ($30 per year). Except for participants from outside Quebec.
URL:https://squash.qc.ca/event-calendar/championnats-quebecois-quebec-open-2026/?lang=en
LOCATION:Club Atwater\, 3505\, avenue Atwater\, Montréal\, QC\, H3H 1Y2\, Canada
ORGANIZER;CN="David Philips":MAILTO:dphillips@clubatwater.ca
END:VEVENT
BEGIN:VEVENT
DTSTART;VALUE=DATE:20260328
DTEND;VALUE=DATE:20260329
DTSTAMP:20260423T211256
CREATED:20260304T160937Z
LAST-MODIFIED:20260304T160953Z
UID:3830-1774656000-1774742399@squash.qc.ca
SUMMARY:Clinique d'arbitrage en personne et en Ligne / In person and Virtual Refereeing Clinic
DESCRIPTION:This Refereeing Clinic will take place in person as well as virtual for those who cannot make it to Club Atwater during the Quebec Open Event. We will continue our look at another aspect of the rules update that player conduct issues. We will also review a few video clips. The clinic will last for only an hour. \n============================================== \nCe Webinaire sur l’arbitrage se déroulera en personne et en ligne pour ceux qui ne peuvent pas se rendre au Club Atwater pendant le Tournoi de Quebec. Nous continuerons d’examiner un autre aspect de la mise à jour des règles qui traite des comportement de Joueur. Nous visionnerons également quelques extraits vidéo. Le séminaire ne durera qu’une heure.
URL:https://squash.qc.ca/event-calendar/clinique-darbitrage-en-personne-et-en-ligne-in-person-and-virtual-refereeing-clinic/?lang=en
LOCATION:Club Atwater\, 3505\, avenue Atwater\, Montréal\, QC\, H3H 1Y2\, Canada
ORGANIZER;CN="Viano Oghenekevwe":MAILTO:vcoghene@yahoo.com
END:VEVENT
BEGIN:VEVENT
DTSTART;VALUE=DATE:20260402
DTEND;VALUE=DATE:20260403
DTSTAMP:20260423T211256
CREATED:20260326T173243Z
LAST-MODIFIED:20260326T173535Z
UID:3844-1775088000-1775174399@squash.qc.ca
SUMMARY:WMSL - Ladies Night @ CDL
DESCRIPTION:S’inscrire à l’événement / Register for the event \nÉvénement #4/6 – maximum 30 joueuses \nLes soirées “Ladies Night” sont des évènements de squash réservés aux femmes tant débutantes que expérimentées. \nCoût: 20$ / 30$ si non membre Squash Québec \nInformation additionnelles \n\n3 matchs garantis\nles parties se jouent en “best of 3” avec des manches en 11 points.\nOuvert à tous niveaux. Rating Club Locker recommandés par catégorie :\n\nA (4.00 et plus)\nB (3.30 et plus)\nC (2.50 et plus)\nD (en dessous de 2.50)\n\n\nDébut des matchs: 18h\, fin de la soirée au plus tard 21h\nSouvenir seront offerts à toutes les joueuses ayant participé à minimum 3 évènements (sur les 6 que contient cette saison).\n\nAu plaisir de vous y retrouver en grand nombre. \n\nEvent #4/6 – 30 players maximum \nThe “Ladies Night” are squash events reserved only for women\, beginners and experienced players are welcomed. \nCost: $20 / $30 for non members of Squash Québec \nAdditional Information \n\n3 matches guaranteed\nThe games are played in “best of 3” with sets in 11 points.\nOpen to all levels. Recommended Club Locker rating for each category :\n\nA (4.00 and more)\nB (3.30 and more)\nC (2.50 and more)\nD (below 2.50)\n\n\nStart of matches: 6 p.m.\, end of the evening no later than 9 p.m.\nSouvenir will be offered to all players who have participated in at least 3 events (out of the 6 that this season contains).\n\nLooking forward to seeing many of you there.
URL:https://squash.qc.ca/event-calendar/wmsl-ladies-night-cdl-2/?lang=en
LOCATION:Club Sportif CDL\, 8305 Chemin de la Côte-de-Liesse\, Montréal\, QC\, H4T 1G5\, Canada
ORGANIZER;CN="Simon Wojcik":MAILTO:liguedesquashdemontreal@gmail.com
END:VEVENT
BEGIN:VEVENT
DTSTART;VALUE=DATE:20260410
DTEND;VALUE=DATE:20260413
DTSTAMP:20260423T211256
CREATED:20251110T202946Z
LAST-MODIFIED:20251110T203141Z
UID:3613-1775779200-1776038399@squash.qc.ca
SUMMARY:McGill Open 2026
DESCRIPTION:S’inscrire à l’événement / Register for the event \nINFORMATIONS – VERSION FRANÇAISE \n\nLe Club de Squash de l’Université McGill (USC) vous convie cordialement à participer à la quatrième édition de son tournoi de squash\, du 10 au 12 avril 2026. \nLes divisions suivantes sont ouvertes\, en fonction des ratings : \n\nHommes Open –> limite de 8 joueurs\nMixte A (rating >5.0) –> limite de 16 joueurs\nMixte B (rating <5.0) –> limite de 32 joueurs\nMixte C (rating <4.3) –> limite de 16 joueurs\nMixte D (rating <3.8) –> limite de 16 joueurs\n\n\nDames Open –> limite de 8 joueuses\nDames A (rating >4.0) –> limite de 16 joueuses\nDames B (rating <4.0) –> limite de 16 joueuses\nDames C (rating <3.2) –> limite de 16 joueuses\nDames D (rating <2.5) –> limite de 16 joueuses\n\nLes ratings sont à titre indicatif mais pourraient\, au besoin\, justifier un remaniement du joueur pour faciliter la gestion des tableaux. \nDes divisions pourraient être fusionnées sans préavis après la fin de la période d’inscription. \n\nFrais d’inscription :\n\n50$ pour les membres de Squash Québec\n60$ pour les non-membres de Squash Québec\n40$ pour les étudiants\, nous contacter par courriel\nPour plus d’une division\, nous contacter par courriel\n\n\n3 matchs garantis (excluant les forfaits et les catégories OPEN)\nLes matchs de 1ere ronde débuteront le vendredi soir\, à compter de 17h00\nLunch offert le samedi\, brunch le dimanche\, fruits et barres tendres en tout temps\nLes gagnants des catégories Open recevront une bourse en argent\nLes gagnants des autres catégories se mériteront un prix en produits de notre commanditaire.\n\n\n\n\n\nINFORMATION – ENGLISH VERSION \n\nThe University Squash Club of McGill (USC) gladly invites you to take part in the fourth edition of its squash tournament\, on April 10-12\, 2026. \nAll divisions are available\, according to ratings : \n\nMen’s Open –> limit of 8 players\nMixed A (rating >5.0) –> limit of 16 players\nMixed B (rating <5.0) –> limit of 32 players\nMixed C (rating <4.3) –> limit of 16 players\nMixed D (rating <3.8) –> limit of 16 players\n\n\nLadies Open  –> limit of 8 players\nLadies A (rating >4.0) –> limit of 16 players\nLadies B (rating <4.0) –> limit of 16 players\nLadies C (rating <3.2) –> limit of 16 players\nLadies D (rating <2.5) –> limit of 16 players\n\nRatings are for information only but could\, if needed\, be used to justify moving a player up or down to complete draws. Divisions may be fused without notice after registration closes. \n\nRegistration fee:\n\n50$ for Squash Quebec members\n60$ for non-members of Squash Quebec\n40$ for students\, please send an email\nFor more than one division\, please send an email\n\n\n3 matches guaranteed ​​​​​​​(excluding defaults and OPEN divisions)\nFirst round matches will begin on Friday evening\, after 5pm\nLunch will be served on Saturday\, brunch on Sunday\, fruits and chewy bars available throughout the event\nPrize money to the Open divisions winner\nGifts from our sponsors for all other divisions winner\n\n\n\n\n\nCOMMANDITAIRES / SPONSORS -> RK4 SPORTS \n\nNous sommes heureux d’annoncer que l’événement est commandité par RK4 Sports \nLeurs produits seront en démonstration et en vente\, à rabais\, sur place lors du tournoi. \n\nWe are pleased to be sponsored by RK4 Sports \nTheir products will be in demo and for sale\, discounted\, on location during the tournament.
URL:https://squash.qc.ca/event-calendar/mcgill-open-2026/?lang=en
LOCATION:McGill\, 475 des Pins\, Montréal\, Québec\, H2W 1S4\, Canada
ORGANIZER;CN="McGill":MAILTO:usc.mcgill@gmail.com
END:VEVENT
BEGIN:VEVENT
DTSTART;VALUE=DATE:20260502
DTEND;VALUE=DATE:20260503
DTSTAMP:20260423T211256
CREATED:20260422T192213Z
LAST-MODIFIED:20260422T192431Z
UID:3872-1777680000-1777766399@squash.qc.ca
SUMMARY:Formation Entraineur Communautaire de Squash
DESCRIPTION:S’inscrire à l’événement / Register for the event\nDÉTAILS – FORMATION ENTRAÎNEUR COMMUNAUTAIRE DE SQUASH (FR)\nBonjour à tous\, \nVenez suivre votre formation d’entraîneur communautaire de squash avec Maxym Leclair\, au Club Sportif de CDL\, de 9 h à 17 h 30\, le 2 mai 2026.Coût : 50 $ \nCette formation vous donnera les bases essentielles pour enseigner le squash de façon structurée et professionnelle dans votre communauté. Elle vous permettra également de faire partie de la liste des entraîneurs communautaires certifiés de Squash Québec et d’être invité à participer à des camps et cours rémunérés lorsque ceux-ci sont sanctionnés par l’organisation. \nOBJECTIFS D’APPRENTISSAGE\nAprès avoir complété le volet sport communautaire pour le squash\, vous serez un instructeur de squash communautaire « formé » et serez en mesure de : \n\nComprendre et démontrer les échauffements et les exercices de récupération\nÉvaluer les compétences techniques de base\nComprendre le format d’une leçon\nDonner un cours\nEnseigner et démontrer un coup droit\nEnseigner et démontrer un revers\nEnseigner et démontrer le service en lob et le retour de service\nComprendre et démontrer les tactiques de base\, les déplacements sécuritaires et le jeu\nDémontrer une variété d’exercices\, d’entraînements et de jeux\nPlanifier et réaliser des plans de leçon de base\n\nNote : Veuillez vous habiller pour jouer au squash. Un restaurant est disponible sur place pour le dîner. \n\nDETAILS – COMMUNITY SQUASH INSTRUCTOR COURSE (ENG)\nHi everyone\, \nJoin Maxym Leclair for your Community Squash Coach training at the CDL Sports Club from 9:00 a.m. to 5:30 p.m. on May 2\, 2026.Cost: $50 \nThis course will provide you with the essential foundation to teach squash in a structured and professional manner within your community. It will also allow you to be added to the list of certified community coaches with Squash Québec and be invited to participate in paid camps and courses when sanctioned by the organization. \nLEARNING OBJECTIVES\nUpon completion of the Community Sport Squash component\, you will be a “trained” Community Squash Instructor and will be able to: \n\nUnderstand and demonstrate warm-ups and cool-down exercises\nAssess basic technical skills\nUnderstand lesson format\nConduct a lesson\nTeach and demonstrate a forehand\nTeach and demonstrate a backhand\nTeach and demonstrate the lob serve and return of serve\nUnderstand and demonstrate basic tactics\, safe movement\, and gameplay\nDemonstrate a variety of drills\, exercises\, and games\nPlan and deliver basic lesson plans\n\nNote: Please dress for squash. There is a restaurant on site for lunch.
URL:https://squash.qc.ca/event-calendar/formation-entraineur-communautaire-de-squash/?lang=en
ORGANIZER;CN="Squash Outaouais":MAILTO:info@squashoutaouais.ca
END:VEVENT
BEGIN:VEVENT
DTSTART;VALUE=DATE:20260529
DTEND;VALUE=DATE:20260601
DTSTAMP:20260423T211256
CREATED:20260212T121440Z
LAST-MODIFIED:20260212T140513Z
UID:3785-1780012800-1780271999@squash.qc.ca
SUMMARY:Tournoi Commémoratif Robert Kornitzer 2026
DESCRIPTION:S’inscrire à l’événement / Register for the event \nLe tournoi commémoratif Robert Kornitzer 2026 aura lieu du 29 au 31 mai prochain au Club CDL à Montréal (Saint-Laurent) pour conclure la saison de squash 2026! Joignez-vous à nous pour une fin de semaine de squash et soutenez du même coup une bonne cause. Tous les profits de l’événement seront remis à la Fondation des maladies du coeur et de l’AVC ! \n3 matchs garantis\, repas le samedi pour les participants\, souvenir de participation et prix aux gagnants et finalistes. \nPour en savoir plus sur la fondation soutenue par l’événement: https://www.coeuretavc.ca \n============================================================================= \nThe 2026 Robert Kornitzer Memorial tournament will be held from May 29-31\, 2025 at Club CDL in Montreal (Saint-Laurent) to end our 2026 Squash Season! Join us for a fun weekend of squash and support a good cause ! All proceeds from the event will be donated to the heart and stroke foundation. \n3 matches guaranteed\, meal on Saturday for all participants\, tournament souvenir and prizes for winners and finalists of all categories. \nTo know more about the foundation supported by the event: https://www.heartandstroke.ca\nINFORMATIONS: \n\nDates: 29 au 31 mai 2026\nEndroit: Club CDL\n3 matchs garantis / 3 matches garantis !\nRepas le samedi / Repas du samedi\nPrix pour les gagnants et finalistes de toutes les catégories / Prizes for winners and finalists of all categories\nFrais d’inscription: 60$ jusqu’a 1 mai 2026 et $70 après.\n\n*Les participants doivent être membres de Squash Québec (30$ par année). Excepté pour les participants venant de l’extérieur du Québec. \n*Players must be members of Squash Québec (30$ per year). Except for out of province participants.
URL:https://squash.qc.ca/event-calendar/tournoi-commemoratif-robert-kornitzer-2026/?lang=en
LOCATION:Club Sportif CDL\, 8305 Chemin de la Côte-de-Liesse\, Montréal\, QC\, H4T 1G5\, Canada
ORGANIZER;CN="Viano Oghenekevwe":MAILTO:vcoghene@yahoo.com
END:VEVENT
END:VCALENDAR