BEGIN:VCALENDAR
VERSION:2.0
PRODID:-//Squash Québec - ECPv6.15.20//NONSGML v1.0//EN
CALSCALE:GREGORIAN
METHOD:PUBLISH
X-WR-CALNAME:Squash Québec
X-ORIGINAL-URL:https://squash.qc.ca/?lang=en
X-WR-CALDESC:Events for Squash Québec
REFRESH-INTERVAL;VALUE=DURATION:PT1H
X-Robots-Tag:noindex
X-PUBLISHED-TTL:PT1H
BEGIN:VTIMEZONE
TZID:UTC
BEGIN:STANDARD
TZOFFSETFROM:+0000
TZOFFSETTO:+0000
TZNAME:UTC
DTSTART:20210101T000000
END:STANDARD
END:VTIMEZONE
BEGIN:VEVENT
DTSTART;VALUE=DATE:20221214
DTEND;VALUE=DATE:20221215
DTSTAMP:20260424T095546
CREATED:20221205T171600Z
LAST-MODIFIED:20221205T171700Z
UID:1441-1670976000-1671062399@squash.qc.ca
SUMMARY:Women Montreal Squash League - McGill
DESCRIPTION:The Women Montreal Squash League is back. \nYou are invited to the very first evening of the WMSL (Women Montreal Squash League) on Wednesday\, December 14 at McGill. \nOne evening per month will be organized from December to May at an individual cost of $20 per event. T-shirt shirts will be offered to all women who participate in a minimum of 3 events. \nRegistration deadline\nYou have until December 11 to register. \nCost\n20$ \nRegistration\nhttps://clublocker.com/tournaments/14532/info
URL:https://squash.qc.ca/event-calendar/women-montreal-squash-league-mcgill/?lang=en
LOCATION:McGill\, 475 des Pins\, Montréal\, Québec\, H2W 1S4\, Canada
ORGANIZER;CN="Simon Wojcik":MAILTO:liguedesquashdemontreal@gmail.com
END:VEVENT
BEGIN:VEVENT
DTSTART;VALUE=DATE:20221210
DTEND;VALUE=DATE:20221211
DTSTAMP:20260424T095546
CREATED:20221109T161536Z
LAST-MODIFIED:20221128T204402Z
UID:1331-1670630400-1670716799@squash.qc.ca
SUMMARY:SquashSuper8 @ Club CDL
DESCRIPTION:SQUASHSUPER8 SATURDAY DECEMBER 10 : CHRISTMAS SPECIAL ! \nGather at Club CDL for a SquashSuper 8 event open to players of all skill levels (male/female). \nSeveral prizes will be drawn during the day. \nYou have until December 5 to register: https://clublocker.com/tournaments/14471/info
URL:https://squash.qc.ca/event-calendar/squashsuper8-midtown-sanctuaire/?lang=en
LOCATION:Midtown Le Sporting Club Sanctuaire\, 6105\, avenue du Boisé\, Montréal\, QC\, H3S 2V9\, Canada
ORGANIZER;CN="Philippe Roy":MAILTO:squashsuper8@gmail.com
END:VEVENT
BEGIN:VEVENT
DTSTART;VALUE=DATE:20221125
DTEND;VALUE=DATE:20221128
DTSTAMP:20260424T095546
CREATED:20220929T165535Z
LAST-MODIFIED:20221117T194959Z
UID:896-1669334400-1669593599@squash.qc.ca
SUMMARY:Conqueror Squash Challenge\, Charity Tournament
DESCRIPTION:Conqueror Squash Challenge\, Charity Tournament\nThe 2022 Conqueror Squash Challenge tournament will be held from November 25th to 27th at Club CDL in Montreal (Saint-Laurent) !\nJoin us for a fun weekend of squash and support a good cause! Net proceeds from the event will be donated the Conqueror project in support of Breast Cancer Research at the Segal Breast Cancer centre of the Montreal Jewish Hospital. \n3 matches guaranteed\, meal on Staurday for all participants\, tournament souvenir and prizes for winners and finalists of all categories. Besides the main tournament\, we will also have a ”One rally fun draw” ! \nCategories : \n\n\n\n\n\n\n\n\n\n\nINFORMATIONS: \n\n3 maches guaranteed\nMeal on Saturday\nPrizes for winners and finalists of all categories\n”Fun draw” tournament\, one rally per match!\n\n*Players must be members of Squash Québec (20$ per year). Except for out of province participants. \nOut of province participants\, please e-mail Viano at vcoghene@yahoo.com to sign up without having to pay the 20$ Squash Quebec membership. \n\n\n\n\n\n\n\n\n\n\nRegistration deadline \nNovember 20 \nCost\n$65 (taxes included) \nRegistration\nThe registration is done on ClubLocker: https://clublocker.com/tournaments/14209/info
URL:https://squash.qc.ca/event-calendar/conqueror-squash-challenge-charity-tournament/?lang=en
LOCATION:Club Sportif CDL\, 8305 Chemin de la Côte-de-Liesse\, Montréal\, QC\, H4T 1G5\, Canada
ORGANIZER;CN="Viano Oghenekevwe":MAILTO:vcoghene@yahoo.com
END:VEVENT
BEGIN:VEVENT
DTSTART;VALUE=DATE:20221113
DTEND;VALUE=DATE:20221114
DTSTAMP:20260424T095546
CREATED:20221104T125904Z
LAST-MODIFIED:20221104T125904Z
UID:1318-1668297600-1668383999@squash.qc.ca
SUMMARY:Canada Games Team selection - Boys
DESCRIPTION:Part of the selection for the boys will be held on November 13. \nThere will then be\, later in December\, a 2nd game for the guys.
URL:https://squash.qc.ca/event-calendar/canada-games-team-selection-boys/?lang=en
LOCATION:Club Atwater\, 3505\, avenue Atwater\, Montréal\, QC\, H3H 1Y2\, Canada
ORGANIZER;CN="David Philips":MAILTO:dphillips@clubatwater.ca
END:VEVENT
BEGIN:VEVENT
DTSTART;VALUE=DATE:20221105
DTEND;VALUE=DATE:20221106
DTSTAMP:20260424T095546
CREATED:20221104T125729Z
LAST-MODIFIED:20221104T125729Z
UID:1316-1667606400-1667692799@squash.qc.ca
SUMMARY:Canada Games Team selection - Girls
DESCRIPTION:This Saturday\, November 5\, there will be part of the selection to determine which will be the 4 players who will represent Quebec at the next Canada Games. Part of the selection for the boys will be held on November 13. There will be later\, later in December\, a 2nd part for the guys.
URL:https://squash.qc.ca/event-calendar/canada-games-team-selection-girls/?lang=en
LOCATION:Club Atwater\, 3505\, avenue Atwater\, Montréal\, QC\, H3H 1Y2\, Canada
ORGANIZER;CN="Sophie Joubarne":MAILTO:sophiejoubarne@hotmail.com
END:VEVENT
BEGIN:VEVENT
DTSTART;TZID=UTC:20221104T154500
DTEND;TZID=UTC:20221104T210000
DTSTAMP:20260424T095546
CREATED:20221007T002803Z
LAST-MODIFIED:20221007T002803Z
UID:1070-1667576700-1667595600@squash.qc.ca
SUMMARY:Squash Super 8 - Midtown Sanctuaire
DESCRIPTION:Squash Super 8 Midtown Sanctuaire\nWith a view to promotion and development\, SquashSuper8 is a series of events that brings together the elite of squash players in Quebec via a provincial tour. The idea is to provide a showcase for the sport in different cities in Quebec in order to promote access to high-level squash to the Quebec public. \nFounded in 2014 by Philippe Roy\, SquashSuper8 offers supervised events with several games per evening. These matches are sanctioned by Squash Quebec. They allow distinguished players to compete\, in addition to tournaments\, on a formula of a single match per evening. The events are open to players of all levels (men and women) and bring together players of all levels\, referees and spectators during these “happenings” which occur on Friday evenings or Saturday mornings.  \nRegistration deadline\nMonday October 31 2022 \nCost: $15\nIncluded: 1 sanctioned match\, 1 health bar \nSchedule\nFirst matches at 3:45pm \nRegistration\nRegistrations are done on ClubLocker. Please mention what time are you available to play. Indicate your level of play (A-B-C-D).
URL:https://squash.qc.ca/event-calendar/squash-super-8-midtown-sanctuaire/?lang=en
LOCATION:Midtown Le Sporting Club Sanctuaire\, 6105\, avenue du Boisé\, Montréal\, QC\, H3S 2V9\, Canada
ORGANIZER;CN="Philippe Roy":MAILTO:squashsuper8@gmail.com
END:VEVENT
BEGIN:VEVENT
DTSTART;VALUE=DATE:20221029
DTEND;VALUE=DATE:20221031
DTSTAMP:20260424T095546
CREATED:20220929T164337Z
LAST-MODIFIED:20220929T173129Z
UID:891-1667001600-1667174399@squash.qc.ca
SUMMARY:Tryouts for Quebec Masters Team
DESCRIPTION:Tryouts for Quebec Masters Team\nCome earn your spot for the Canadian Masters Championships! \n4 men and 3 women will be offered a position to play on the Quebec Master’s Squash Team to participate at the Canadian Masters Championships taking place January 27-29\, 2023 at Charlottetown\, Prince Edward Island. \nCategories : \nMen 40+\, 45+\, 50+ & 55+\nWomen 40+\, 45+\, 50+ \nFor any questions\, please contact\nViano Oghenekevwe: vcoghene@yahoo.com \nRegistration deadline\nFriday October 28 \nCost\nFree \nRegistration\nThe registration is done on ClubLocker: https://clublocker.com/tournaments/14210/info
URL:https://squash.qc.ca/event-calendar/tryouts-for-quebec-masters-team/?lang=en
LOCATION:Club Sportif CDL\, 8305 Chemin de la Côte-de-Liesse\, Montréal\, QC\, H4T 1G5\, Canada
ORGANIZER;CN="Viano Oghenekevwe":MAILTO:vcoghene@yahoo.com
END:VEVENT
BEGIN:VEVENT
DTSTART;VALUE=DATE:20221021
DTEND;VALUE=DATE:20221024
DTSTAMP:20260424T095546
CREATED:20220907T185926Z
LAST-MODIFIED:20220929T173047Z
UID:461-1666310400-1666569599@squash.qc.ca
SUMMARY:Gatineau Classic presented by Secureship
DESCRIPTION:Gatineau Classic presented by Secureship\nSquash Outaouais and the Sporthèque invite you to a weekend of squash during the fall tournament La Classique de Gatineau. The tournament includes three matchs\, a 5 to 7 on Saturday (microbrewery beers and snacks) and guarantees you a lot of fun! In addition\, you will have the opportunity to see top-level squash with the PSA Men’s and Women’s categories. \nTournament : The Gatineau Classic (PSA and Amateur Tournament) \nCategories: PSA Men and Women\, Mixed A\, Mixed B\, Mixed C\, Women B and Women C/D \nPrize money : $2250 for PSA Men’s and Women’s category ($4500 total) \nInformation: Maxym Leclair – info@squashoutaouais.ca – 819-209-5910 \nIncluded: 3 matches\, 5 to 7 on Saturday (microbrew beer and snacks)\, watch professional games! \nRefund policy: 90% refund if before the registration deadline. No refund afterwards \nHotel: Ramada Plaza Manoir du Casino\, Hilton du Lac-Leamy or Holiday Inn Gatineau-Ottawa (No special price) \nRegistration deadline\nSunday October 16 \nCost\n$50 Sporthèque members ($55 non-members) \nRegistration\nRegistrations are done on ClubLocker: https://clublocker.com/tournaments/14133/info
URL:https://squash.qc.ca/event-calendar/gatineau-classic/?lang=en
LOCATION:Sporthèque\, 72\, rue Jean-Proulx\, Gatineau\, Québec\, J8Z 1W1\, Canada
ORGANIZER;CN="Squash Outaouais":MAILTO:info@squashoutaouais.ca
END:VEVENT
BEGIN:VEVENT
DTSTART;TZID=UTC:20220827T100000
DTEND;TZID=UTC:20220827T170000
DTSTAMP:20260424T095546
CREATED:20220713T143818Z
LAST-MODIFIED:20220713T143818Z
UID:458-1661594400-1661619600@squash.qc.ca
SUMMARY:SquashSuper 8 Sani-Sport (Boucherville)
DESCRIPTION:Summer SquashSuper 8\nWith a view to promotion and development\, SquashSuper8 is a series of events that brings together the elite of squash players in Quebec via a provincial tour. The idea is to provide a showcase for the sport in different cities in Quebec in order to promote access to high-level squash to the Quebec public. \nFounded in 2014 by Philippe Roy\, SquashSuper8 offers supervised events with several games per evening. These matches are sanctioned by Squash Quebec. They allow distinguished players to compete\, in addition to tournaments\, on a formula of a single match per evening. The events are open to players of all levels (men and women) and bring together players of all levels\, referees and spectators during these “happenings” which occur on Friday evenings or Saturday mornings.  \nRegistration deadline\nTuesday August 23 2022\, 17h \nCost: 20$\nIncluded: 1 sanctioned match\, 1 health bar \nRegistrations\nRegistrations are done on ClubLocker. Please mention from what time you are available to play. Indicate your level of play (A-B-C-D).
URL:https://squash.qc.ca/event-calendar/squashsuper-8-sani-sport-boucherville/?lang=en
LOCATION:Sani Sport Boucherville\, 1601\, boul. De Montarville\, Boucherville\, QC\, J4W 1B3\, Canada
CATEGORIES:SquashSuper 8
ATTACH;FMTTYPE=image/jpeg:https://squash.qc.ca/wp-content/uploads/2022/07/SquashSuper8.jpeg
ORGANIZER;CN="Philippe Roy":MAILTO:squashsuper8@gmail.com
END:VEVENT
BEGIN:VEVENT
DTSTART;TZID=UTC:20220820T130000
DTEND;TZID=UTC:20220820T160000
DTSTAMP:20260424T095546
CREATED:20220713T154251Z
LAST-MODIFIED:20220713T154251Z
UID:473-1661000400-1661011200@squash.qc.ca
SUMMARY:Squash Festif (Montcalm)
DESCRIPTION:Last summer’s popular festive evenings at the Montcalm tennis and squash club are back and renamed Squash Festif! Under the same formula as last year\, timed mini-matches with handicaps ! \n\nFriday July 15th\nSaturday July 30th\nFriday August 12th\nSaturday August 20th\n\nRegistration\nWelcome to all levels\, registration and information at info@squashcapitalenationale.com \nCost\n\n$20 per night\n$10 extra for non-members of Squash Montcalm\nParticipants must be a member of Squash Capitale Nationale ($15 per year)\nIncludes one drink per evening and a closing BBQ with door prizes on August 20
URL:https://squash.qc.ca/event-calendar/squash-festif-montcalm-2/?lang=en
LOCATION:Tennis Montcalm\, 1141\, boulevard Champlain\, Québec\, QC\, G1K 0A2\, Canada
ATTACH;FMTTYPE=image/png:https://squash.qc.ca/wp-content/uploads/2022/07/SquashCapitaleNationale-e1657729291473.png
ORGANIZER;CN="Squash Capitale Nationale":MAILTO:info@squashcapitalenationale.com
END:VEVENT
BEGIN:VEVENT
DTSTART;TZID=UTC:20220812T173000
DTEND;TZID=UTC:20220812T203000
DTSTAMP:20260424T095546
CREATED:20220713T154415Z
LAST-MODIFIED:20220908T151621Z
UID:470-1660325400-1660336200@squash.qc.ca
SUMMARY:Squash Festif (Montcalm)
DESCRIPTION:Last summer’s popular festive evenings at the Montcalm tennis and squash club are back and renamed Squash Festif ! Under the same formula as last year\, timed mini-matches with handicaps! \n\nFriday July 15th\nSaturday July 30th\nFriday August 12th\nSaturday August 20th\n\nRegistration\nWelcome at all levels\, registration and information at info@squashcapitalenationale.com \nCost\n\n$20 for the night\nAdditional $10 for non members of Squash Montcalm\nParticipants must be a member of Squash Capitale Nationale ($15 per year)\nIncludes one drink per evening and a closing BBQ with door prizes on August 20
URL:https://squash.qc.ca/event-calendar/squash-festif-montcalm/?lang=en
LOCATION:Tennis Montcalm\, 1141\, boulevard Champlain\, Québec\, QC\, G1K 0A2\, Canada
ATTACH;FMTTYPE=image/png:https://squash.qc.ca/wp-content/uploads/2022/07/SquashCapitaleNationale-e1657729291473.png
ORGANIZER;CN="Squash Capitale Nationale":MAILTO:info@squashcapitalenationale.com
END:VEVENT
BEGIN:VEVENT
DTSTART;TZID=UTC:20220730T130000
DTEND;TZID=UTC:20220730T160000
DTSTAMP:20260424T095546
CREATED:20220713T154128Z
LAST-MODIFIED:20220713T154128Z
UID:474-1659186000-1659196800@squash.qc.ca
SUMMARY:Squash Festif (Montcalm)
DESCRIPTION:Les populaires soirées festives de l’été dernier au Club de tennis et squash Montcalm sont de retour et renommées le Squash festif ! Sous la même formule que l’année dernière\, des minis-matchs chronométrés avec handicaps ! \n\nVendredi 15 juillet\nSamedi 30 juillet\nVendredi 12 août\nSamedi 20 août\n\nInscription\nBienvenue à tous les niveaux\, inscription et information à info@squashcapitalenationale.com \nCoût\n\n20$ par soirée\n10$ supplémentaire pour les non membres de Squash Montcalm\nLes participants doivent être membre de Squash Capitale Nationale (15$ par année)\nInclus une consommation par soir et un BBQ de clôture avec prix de présence le 20 août
URL:https://squash.qc.ca/event-calendar/squash-festif-montcalm-3/?lang=en
LOCATION:Tennis Montcalm\, 1141\, boulevard Champlain\, Québec\, QC\, G1K 0A2\, Canada
ATTACH;FMTTYPE=image/png:https://squash.qc.ca/wp-content/uploads/2022/07/SquashCapitaleNationale-e1657729291473.png
ORGANIZER;CN="Squash Capitale Nationale":MAILTO:info@squashcapitalenationale.com
END:VEVENT
BEGIN:VEVENT
DTSTART;TZID=UTC:20220715T173000
DTEND;TZID=UTC:20220715T203000
DTSTAMP:20260424T095546
CREATED:20220713T153947Z
LAST-MODIFIED:20220713T153947Z
UID:475-1657906200-1657917000@squash.qc.ca
SUMMARY:Squash Festif (Montcalm)
DESCRIPTION:Les populaires soirées festives de l’été dernier au Club de tennis et squash Montcalm sont de retour et renommées le Squash festif ! Sous la même formule que l’année dernière\, des minis-matchs chronométrés avec handicaps ! \n\nVendredi 15 juillet\nSamedi 30 juillet\nVendredi 12 août\nSamedi 20 août\n\nInscription\nBienvenue à tous les niveaux\, inscription et information à info@squashcapitalenationale.com \nCoût\n\n20$ par soirée\n10$ supplémentaire pour les non membres de Squash Montcalm\nLes participants doivent être membre de Squash Capitale Nationale (15$ par année)\nInclus une consommation par soir et un BBQ de clôture avec prix de présence le 20 août
URL:https://squash.qc.ca/event-calendar/squash-festif-montcalm-4/?lang=en
LOCATION:Tennis Montcalm\, 1141\, boulevard Champlain\, Québec\, QC\, G1K 0A2\, Canada
ATTACH;FMTTYPE=image/png:https://squash.qc.ca/wp-content/uploads/2022/07/SquashCapitaleNationale-e1657729291473.png
ORGANIZER;CN="Squash Capitale Nationale":MAILTO:info@squashcapitalenationale.com
END:VEVENT
END:VCALENDAR